Workbook

Sheet Classif Prog-Admin-Eco
AM2: =AI7+AI40+AI44+AR1347 -> 8920555 | AO2: =AN44-AE44 -> 0 | AQ2: =AN123-AE123 -> -2955274 | AT2: =AF44-AO44 -> 0
BA3: (en milliers de francs CFA)
C4: 2022 | L4: 2023 | U4: 2024 | AD4: 2025 | AM4: 2026 | AV4: 2027
C5: DEPENSES ORDINAIRES | G5: DEPENSES EN CAPITAL | L5: DEPENSES ORDINAIRES | P5: DEPENSES EN CAPITAL | U5: DEPENSES ORDINAIRES | Y5: DEPENSES EN CAPITAL | AD5: DEPENSES ORDINAIRES | AH5: DEPENSES EN CAPITAL | AM5: DEPENSES ORDINAIRES | AQ5: DEPENSES EN CAPITAL | AV5: DEPENSES ORDINAIRES | AZ5: DEPENSES EN CAPITAL
A6: Code Prog. | B6: Ministère /Programme/Dotation | C6: Dépenses de personnel | D6: Dépenses d'acquisitions de biens et services | E6: Dépenses de transfert | F6: Total dépenses ordinaires (a) | G6: Ressources Intérieures | H6: Ressources extérieures | J6: Total dépenses en capital (b) | K6: Total des Prévisions | L6: Dépenses de personnel | M6: Dépenses d'acquisitions de biens et services | N6: Dépenses de transfert | O6: Total dépenses ordinaires (a) | P6: Ressources Intérieures | Q6: Ressources extérieures (dons) | R6: Ressources extérieures (prêts) | S6: Total dépenses en capital (b) | T6: Total des Prévisions | U6: Dépenses de personnel | V6: Dépenses d'acquisitions de biens et services | W6: Dépenses de transfert | X6: Total dépenses ordinaires (a) | Y6: Ressources Intérieures | Z6: Ressources extérieures (dons) | AA6: Ressources extérieures (prêts) | AB6: Total dépenses en capital (b) | AC6: Total des Prévisions | AD6: Dépenses de personnel | AE6: Dépenses d'acquisitions de biens et services | AF6: Dépenses de transfert | AG6: Total dépenses ordinaires (a) | AH6: Ressources Intérieures | AI6: Ressources extérieures (dons) | AJ6: Ressources extérieures (prêts) | AK6: Total dépenses en capital (b) | AL6: Total des Prévisions | AM6: Dépenses de personnel | AN6: Dépenses d'acquisitions de biens et services | AO6: Dépenses de transfert | AP6: Total dépenses ordinaires (a) | AQ6: Ressources Intérieures | AR6: Ressources extérieures (dons) | AS6: Ressources extérieures (prêts) | AT6: Total dépenses en capital (b) | AU6: Total des Prévisions | AV6: Dépenses de personnel | AW6: Dépenses d'acquisitions de biens et services | AX6: Dépenses de transfert | AY6: Total dépenses ordinaires (a) | AZ6: Ressources Intérieures | BA6: Ressources extérieures (dons) | BB6: Ressources extérieures (prêts) | BC6: Total dépenses en capital (b) | BD6: Total des Prévisions
A7: MINISTERE DU DEVELOPPEMENT ET DE LA COORDINATION DE L'ACTION GOUVERNEMENTALE | C7: =C8+C9 -> 1117950 | D7: =D8+D9 -> 2480961.2 | E7: =E8+E9 -> 331003.83 | F7: =C7+D7+E7 -> 3929915 | G7: =G8+G9 -> 450000 | H7: =H8+H9 -> 283480.07 | J7: =G7+H7 -> 733480.07 | K7: =F7+J7 -> 4663395.1 | L7: =L8+L9 -> 1819885.7 | M7: =M8+M9 -> 2311320.6 | N7: =N8+N9 -> 361951.4 | O7: =L7+M7+N7 -> 4493157.7 | P7: =P8+P9 -> 895454.5 | Q7: =Q8+Q9 -> 0 | R7: =R8+R9 -> 0 | S7: =P7+Q7+R7 -> 895454.5 | T7: =T8+T9 -> 5388612.2 | U7: =U8+U9 -> 2009310 | V7: =V8+V9 -> 2778642 | W7: =W8+W9 -> 566970 | X7: =U7+V7+W7 -> 5354922 | Y7: =Y8+Y9 -> 1690909 | Z7: =Z8+Z9 -> 3763500 | AA7: =AA8+AA9 -> 0 | AB7: =Y7+Z7+AA7 -> 5454409 | AC7: =X7+AB7 -> 10809331 | AD7: =AD8+AD9 -> 1955707 | AE7: =AE8+AE9 -> 2814355 | AF7: =AF8+AF9 -> 931257 | AG7: =AD7+AE7+AF7 -> 5701319 | AH7: =AH8+AH9 -> 2309091 | AI7: =AI8+AI9 -> 0 | AJ7: =AJ8+AJ9 -> 0 | AK7: =AH7+AI7+AJ7 -> 2309091 | AL7: =AG7+AH7 -> 8010410 | AM7: =AM8+AM9 -> 2063691 | AN7: =AN8+AN9 -> 2628642 | AO7: =AO8+AO9 -> 1116970 | AP7: =AM7+AN7+AO7 -> 5809303 | AQ7: =AQ8+AQ9 -> 2809091 | AR7: =AR8+AR9 -> 0 | AS7: =AS8+AS9 -> 0 | AT7: =AQ7+AR7+AS7 -> 2809091 | AU7: =AP7+AT7 -> 8618394 | AV7: =AV8+AV9 -> 2155576 | AW7: =AW8+AW9 -> 2628642 | AX7: =AX8+AX9 -> 1116970 | AY7: =AV7+AW7+AX7 -> 5901188 | AZ7: =AZ8+AZ9 -> 2000000 | BA7: =BA8+BA9 -> 0 | BB7: =BB8+BB9 -> 0 | BC7: =AZ7+BA7+BB7 -> 2000000 | BD7: =AY7+BC7 -> 7901188
A8: 015 | B8: Pilotage et soutien aux services du MDC | C8: 994504 | D8: 2325265.2 | E8: 128066.83 | F8: =SUM(C8:E8) -> 3447836 | G8: 0 | H8: 0 | I8: 0 | J8: =G8+H8+I8 -> 0 | K8: =F8+J8 -> 3447836 | L8: 1148065.3 | M8: 2066311.5 | N8: 116481.4 | O8: =L8+M8+N8 -> 3330858.3 | P8: 0 | Q8: 0 | R8: 0 | S8: =P8+Q8+R8 -> 0 | T8: =O8+S8 -> 3330858.3 | U8: 1460689 | V8: 2213684 | W8: 121500 | X8: =SUM(U8:W8) -> 3795873 | Y8: 0 | Z8: 0 | AA8: 0 | AB8: =Y8+Z8+AA8 -> 0 | AC8: =X8+AB8 -> 3795873 | AD8: 1339732 | AE8: 2258327 | AF8: 485787 | AG8: =SUM(AD8:AF8) -> 4083846 | AH8: 0 | AI8: 0 | AJ8: 0 | AK8: =AH8+AI8+AJ8 -> 0 | AL8: =AG8+AK8 -> 4083846 | AM8: 1415205 | AN8: 2063684 | AO8: 671500 | AP8: =SUM(AM8:AO8) -> 4150389 | AQ8: 0 | AR8: 0 | AS8: 0 | AT8: =AQ8+AR8+AS8 -> 0 | AU8: =AP8+AT8 -> 4150389 | AV8: 1478011 | AW8: 2063684 | AX8: 671500 | AY8: =AV8+AW8+AX8 -> 4213195 | AZ8: 0 | BA8: 0 | BB8: 0 | BC8: =AZ8+BA8+BB8 -> 0 | BD8: =AY8+BC8 -> 4213195
A9: 016 | B9: Orientation et évaluation des politiques de développement | C9: 123446 | D9: 155695.95 | E9: 202937 | F9: =SUM(C9:E9) -> 482078.95 | G9: 450000 | H9: 283480.07 | I9: 283480.07 | J9: =G9+H9 -> 733480.07 | K9: =F9+J9 -> 1215559 | L9: 671820.35 | M9: 245009.09 | N9: 245470 | O9: =L9+M9+N9 -> 1162299.4 | P9: 895454.5 | Q9: 0 | R9: 0 | S9: =P9+Q9+R9 -> 895454.5 | T9: =O9+S9 -> 2057753.9 | U9: 548621 | V9: 564958 | W9: 445470 | X9: =SUM(U9:W9) -> 1559049 | Y9: 1690909 | Z9: 3763500 | AA9: 0 | AB9: =Y9+Z9+AA9 -> 5454409 | AC9: =X9+AB9 -> 7013458 | AD9: 615975 | AE9: 556028 | AF9: 445470 | AG9: =SUM(AD9:AF9) -> 1617473 | AH9: 2309091 | AI9: 0 | AJ9: 0 | AK9: =AH9+AI9+AJ9 -> 2309091 | AL9: =AG9+AK9 -> 3926564 | AM9: 648486 | AN9: 564958 | AO9: 445470 | AP9: =SUM(AM9:AO9) -> 1658914 | AQ9: 2809091 | AR9: 0 | AS9: 0 | AT9: =AQ9+AR9+AS9 -> 2809091 | AU9: =AP9+AT9 -> 4468005 | AV9: 677565 | AW9: 564958 | AX9: 445470 | AY9: =AV9+AW9+AX9 -> 1687993 | AZ9: 2000000 | BA9: 0 | BB9: 0 | BC9: =AZ9+BA9+BB9 -> 2000000 | BD9: =AY9+BC9 -> 3687993
A10: MINISTERE DE LA JUSTICE ET DE LA LEGISLATION | C10: =C11+C12+C13+C14+C15 -> 7284190 | D10: =D11+D12+D13+D14+D15 -> 2465525.5 | E10: =E11+E12+E13+E14+E15 -> 10910858 | F10: =F11+F12+F13+F14+F15 -> 20660573 | G10: =G11+G12+G13+G14+G15 -> 5276186.2 | H10: =H11+H12+H13+H14+H15 -> 0 | I10: =I11+I12+I13+I14+I15 -> 0 | J10: =J11+J12+J13+J14+J15 -> 5276186.2 | ... N10: =N11+N12+N13+N14+N15 -> 11228790 | O10: =L10+M10+N10 -> 22707031 | P10: =P11+P12+P13+P14+P15 -> 4400000 | Q10: =Q11+Q12+Q13+Q14+Q15 -> 0 | R10: =R11+R12+R13+R14+R15 -> 0 | S10: =P10+Q10+R10 -> 4400000 | T10: =T11+T12+T13+T14+T15 -> 27107031 | U10: =U11+U12+U13+U14+U15 -> 10357870 | V10: =V11+V12+V13+V14+V15 -> 4696684 | W10: =W11+W12+W13+W14+W15 -> 10378981 | X10: =X11+X12+X13+X14+X15 -> 25433535 | Y10: =Y11+Y12+Y13+Y14+Y15 -> 11780000 | Z10: =Z11+Z12+Z13+Z14+Z15 -> 0 | AA10: =AA11+AA12+AA13+AA14+AA15 -> 0 | ... AO10: =AO11+AO12+AO13+AO14+AO15 -> 11712705 | AP10: =AM10+AN10+AO10 -> 27801855 | AQ10: =AQ11+AQ12+AQ13+AQ14+AQ15 -> 12750000 | AR10: =AR11+AR12+AR13+AR14+AR15 -> 0 | AS10: =AS11+AS12+AS13+AS14+AS15 -> 0 | AT10: =AT11+AT12+AT13+AT14+AT15 -> 12750000 | AU10: =AP10+AT10 -> 40551855 | AV10: =AV11+AV12+AV13+AV14+AV15 -> 12341758 | AW10: =AW11+AW12+AW13+AW14+AW15 -> 4262960 | AX10: =AX11+AX12+AX13+AX14+AX15 -> 11712705 | AY10: =AV10+AW10+AX10 -> 28317423 | AZ10: =AZ11+AZ12+AZ13+AZ14+AZ15 -> 8687000 | BA10: =BA11+BA12+BA13+BA14+BA15 -> 0 | BB10: =BB11+BB12+BB13+BB14+BB15 -> 0 | BC10: =AZ10+BA10+BB10 -> 8687000 | BD10: =AY10+BC10 -> 37004423
A11: 018 | B11: Pilotage et soutien aux services du MJL | C11: 2999419 | D11: 2184306.8 | E11: 75000 | F11: =SUM(C11:E11) -> 5258725.8 | G11: 308619.22 | H11: 0 | I11: 0 | J11: =G11+H11 -> 308619.22 | K11: =F11+J11 -> 5567345 | L11: 1493544.6 | M11: 2271248.6 | N11: 139400 | O11: =L11+M11+N11 -> 3904193.1 | P11: 0 | Q11: 0 | R11: 0 | S11: =P11+Q11+R11 -> 0 | T11: =O11+S11 -> 3904193.1 | U11: 861591 | V11: 3671174 | W11: 0 | X11: =SUM(U11:W11) -> 4532765 | Y11: 0 | Z11: 0 | AA11: 0 | AB11: =Y11+Z11+AA11 -> 0 | AC11: =X11+AB11 -> 4532765 | AD11: 1436019 | AE11: 3188930 | AF11: 0 | AG11: =SUM(AD11:AF11) -> 4624949 | AH11: 0 | AI11: 0 | AJ11: 0 | AK11: =AH11+AI11+AJ11 -> 0 | AL11: =AG11+AK11 -> 4624949 | AM11: 1549146 | AN11: 3188930 | AO11: 0 | AP11: =AM11+AN11+AO11 -> 4738076 | AQ11: 0 | AR11: 0 | AS11: 0 | AT11: =AQ11+AR11+AS11 -> 0 | AU11: =AP11+AT11 -> 4738076 | AV11: 1636669 | AW11: 3188930 | AX11: 0 | AY11: =AV11+AW11+AX11 -> 4825599 | AZ11: 0 | BA11: 0 | BB11: 0 | BC11: =AZ11+BA11+BB11 -> 0 | BD11: =AY11+BC11 -> 4825599
A12: 019 | B12: Cadre législatif normatif et institutionnel | C12: 416252 | D12: 165575.98 | E12: 85848.33 | F12: =SUM(C12:E12) -> 667676.31 | G12: 0 | H12: 0 | I12: 0 | J12: =G12+H12 -> 0 | K12: =F12+J12 -> 667676.31 | L12: 635275.58 | M12: 165358.8 | N12: 0 | O12: =L12+M12+N12 -> 800634.38 | P12: 0 | Q12: 0 | R12: 0 | S12: =P12+Q12+R12 -> 0 | T12: =O12+S12 -> 800634.38 | U12: 363850 | V12: 225525 | W12: 0 | X12: =SUM(U12:W12) -> 589375 | Y12: 0 | Z12: 0 | AA12: 0 | AB12: =Y12+Z12+AA12 -> 0 | AC12: =X12+AB12 -> 589375 | AD12: 985306 | AE12: 225525 | AF12: 0 | AG12: =SUM(AD12:AF12) -> 1210831 | AH12: 0 | AI12: 0 | AJ12: 0 | AK12: =AH12+AI12+AJ12 -> 0 | AL12: =AG12+AK12 -> 1210831 | AM12: 1046850 | AN12: 225525 | AO12: 0 | AP12: =SUM(AM12:AO12) -> 1272375 | AQ12: 0 | AR12: 0 | AS12: 0 | AT12: =AQ12+AR12+AS12 -> 0 | AU12: =AP12+AT12 -> 1272375 | AV12: 1094464 | AW12: 225525 | AX12: 0 | AY12: =AV12+AW12+AX12 -> 1319989 | AZ12: 0 | BA12: 0 | BB12: 0 | BC12: =AZ12+BA12+BB12 -> 0 | BD12: =AY12+BC12 -> 1319989
A13: 020 | B13: Services judiciaires | C13: 3754472 | D13: 77725.826 | E13: 2236295.5 | F13: =SUM(C13:E13) -> 6068493.4 | G13: 4128615 | H13: 0 | I13: 0 | J13: =G13+H13 -> 4128615 | K13: =F13+J13 -> 10197108 | L13: 6463230.3 | M13: 73490 | N13: 2251333 | O13: =L13+M13+N13 -> 8788053.3 | P13: 3400000 | Q13: 0 | R13: 0 | S13: =P13+Q13+R13 -> 3400000 | T13: =O13+S13 -> 12188053 | U13: 9056948 | V13: 718505 | W13: 3167841 | X13: =SUM(U13:W13) -> 12943294 | Y13: 10780000 | Z13: 0 | AA13: 0 | AB13: =Y13+Z13+AA13 -> 10780000 | AC13: =X13+AB13 -> 23723294 | AD13: 8512436 | AE13: 718505 | AF13: 4471565 | AG13: =SUM(AD13:AF13) -> 13702506 | AH13: 9520000 | AI13: 0 | AJ13: 0 | AK13: =AH13+AI13+AJ13 -> 9520000 | AL13: =AG13+AK13 -> 23222506 | AM13: 8987910 | AN13: 718505 | AO13: 4471565 | AP13: =SUM(AM13:AO13) -> 14177980 | AQ13: 11750000 | AR13: 0 | AS13: 0 | AT13: =AQ13+AR13+AS13 -> 11750000 | AU13: =AP13+AT13 -> 25927980 | AV13: 9355775 | AW13: 718505 | AX13: 4471565 | AY13: =AV13+AW13+AX13 -> 14545845 | AZ13: 7687000 | BA13: 0 | BB13: 0 | BC13: =AZ13+BA13+BB13 -> 7687000 | BD13: =AY13+BC13 -> 22232845
A14: 095 | B14: Système pénitentiaire | C14: 47427 | D14: 0 | E14: 8352573.7 | F14: =SUM(C14:E14) -> 8400000.7 | G14: 753952 | H14: 0 | I14: 0 | J14: =G14+H14 -> 753952 | K14: =F14+J14 -> 9153952.7 | L14: 0 | M14: 0 | N14: 8626917.1 | O14: =L14+M14+N14 -> 8626917.1 | P14: 1000000 | Q14: 0 | R14: 0 | S14: =P14+Q14+R14 -> 1000000 | T14: =O14+S14 -> 9626917.1 | U14: 0 | V14: 0 | W14: 7000000 | X14: =SUM(U14:W14) -> 7000000 | Y14: 1000000 | Z14: 0 | AA14: 0 | AB14: =Y14+Z14+AA14 -> 1000000 | AC14: =X14+AB14 -> 8000000 | AD14: 0 | AE14: 0 | AF14: 7000000 | AG14: =SUM(AD14:AF14) -> 7000000 | AH14: 1000000 | AI14: 0 | AJ14: 0 | AK14: =AH14+AI14+AJ14 -> 1000000 | AL14: =AG14+AK14 -> 8000000 | AM14: 0 | AN14: 0 | AO14: 7000000 | AP14: ='Classif Prog-Admin-Eco'!AZ117 -> 24300000 | AQ14: 1000000 | AR14: 0 | AS14: 0 | AT14: =AQ14+AR14+AS14 -> 1000000 | AU14: =AP14+AT14 -> 25300000 | AV14: 0 | AW14: 0 | AX14: 7000000 | AY14: =AV14+AW14+AX14 -> 7000000 | AZ14: 1000000 | BA14: 0 | BB14: 0 | BC14: =AZ14+BA14+BB14 -> 1000000 | BD14: =AY14+BC14 -> 8000000
A15: 021 | B15: Droits Humains | C15: 66620 | D15: 37916.915 | E15: 161140 | F15: =SUM(C15:E15) -> 265676.92 | G15: 85000 | H15: 0 | I15: 0 | J15: =G15+H15 -> 85000 | K15: =F15+J15 -> 350676.92 | L15: 343593.4 | M15: 32500 | N15: 211140 | O15: =L15+M15+N15 -> 587233.4 | P15: 0 | Q15: 0 | R15: 0 | S15: =P15+Q15+R15 -> 0 | T15: =O15+S15 -> 587233.4 | U15: 75481 | V15: 81480 | W15: 211140 | X15: =SUM(U15:W15) -> 368101 | Y15: 0 | Z15: 0 | AA15: 0 | AB15: =Y15+Z15+AA15 -> 0 | AC15: =X15+AB15 -> 368101 | AD15: 226041 | AE15: 130000 | AF15: 241140 | AG15: =SUM(AD15:AF15) -> 597181 | AH15: 0 | AI15: 0 | AJ15: 0 | AK15: =AH15+AI15+AJ15 -> 0 | AL15: =AG15+AK15 -> 597181 | AM15: 242284 | AN15: 130000 | AO15: 241140 | AP15: =SUM(AM15:AO15) -> 613424 | AQ15: 0 | AR15: 0 | AS15: 0 | AT15: =AQ15+AR15+AS15 -> 0 | AU15: =AP15+AT15 -> 613424 | AV15: 254850 | AW15: 130000 | AX15: 241140 | AY15: =AV15+AW15+AX15 -> 625990 | AZ15: 0 | BA15: 0 | BB15: 0 | BC15: =AZ15+BA15+BB15 -> 0 | BD15: =AY15+BC15 -> 625990
A16: MINISTERE DES AFFAIRES ETRANGERES | C16: =C17+C18+C19 -> 5874319 | D16: =D17+D18+D19 -> 4803526.4 | E16: =E17+E18+E19 -> 50000 | F16: =C16+D16+E16 -> 10727845 | G16: =G17+G18+G19 -> 671345.42 | H16: =H17+H18+H19 -> 0 | I16: =I17+I18+I19 -> 0 | J16: =G16+H16+I16 -> 671345.42 | K16: =F16+J16 -> 11399191 | L16: =L17+L18+L19 -> 6431834.9 | M16: =M17+M18+M19 -> 4793264.4 | N16: =N17+N18+N19 -> 429750 | O16: =L16+M16+N16 -> 11654849 | P16: =P17+P18+P19 -> 296885 | Q16: =Q17+Q18+Q19 -> 0 | R16: =R17+R18+R19 -> 0 | S16: =P16+Q16+R16 -> 296885 | T16: =T17+T18+T19 -> 11951734 | U16: =U17+U18+U19 -> 8938365 | V16: =V17+V18+V19 -> 6073701 | W16: =W17+W18+W19 -> 100000 | X16: =U16+V16+W16 -> 15112066 | Y16: =Y17+Y18+Y19 -> 1000000 | Z16: =Z17+Z18+Z19 -> 0 | AA16: =AA17+AA18+AA19 -> 0 | AB16: =Y16+Z16+AA16 -> 1000000 | AC16: =X16+AB16 -> 16112066 | AD16: =AD17+AD18+AD19 -> 11104021 | AE16: =AE17+AE18+AE19 -> 6073701 | AF16: =AF17+AF18+AF19 -> 100000 | AG16: =AD16+AE16+AF16 -> 17277722 | AH16: =AH17+AH18+AH19 -> 1900000 | AI16: =AI17+AI18+AI19 -> 0 | AJ16: =AJ17+AJ18+AJ19 -> 0 | AK16: =AH16+AI16+AJ16 -> 1900000 | AL16: =AG16+AK16 -> 19177722 | AM16: =AM17+AM18+AM19 -> 11797793 | AN16: =AN17+AN18+AN19 -> 6073701 | AO16: =AO17+AO18+AO19 -> 100000 | AP16: =AM16+AN16+AO16 -> 17971494 | AQ16: =AQ17+AQ18+AQ19 -> 900000 | AR16: =AR17+AR18+AR19 -> 0 | AS16: =AS17+AS18+AS19 -> 0 | AT16: =AQ16+AR16+AS16 -> 900000 | AU16: =AP16+AT16 -> 18871494 | AV16: =AV17+AV18+AV19 -> 12543557 | AW16: =AW17+AW18+AW19 -> 6073701 | AX16: =AX17+AX18+AX19 -> 100000 | AY16: =AV16+AW16+AX16 -> 18717258 | AZ16: =AZ17+AZ18+AZ19 -> 900000 | BA16: =BA17+BA18+BA19 -> 0 | BB16: =BB17+BB18+BB19 -> 0 | BC16: =AZ16+BA16+BB16 -> 900000 | BD16: =AY16+BC16 -> 19617258
A17: 022 | B17: Pilotage et soutiens aux services du MAE | C17: 866834 | D17: 1789514.7 | E17: 0 | F17: =SUM(C17:E17) -> 2656348.7 | G17: 375975.83 | H17: 0 | I17: 0 | J17: =G17+H17 -> 375975.83 | K17: =F17+J17 -> 3032324.6 | L17: 1187308.6 | M17: 1812352.7 | N17: 276000 | O17: =L17+M17+N17 -> 3275661.3 | P17: 85392.502 | Q17: 0 | R17: 0 | S17: =P17+Q17+R17 -> 85392.502 | T17: =O17+S17 -> 3361053.8 | U17: 1304124 | V17: 2849186 | W17: 0 | X17: =SUM(U17:W17) -> 4153310 | Y17: 800000 | Z17: 0 | AA17: 0 | AB17: =SUM(Y17:AA17) -> 800000 | AC17: =X17+AB17 -> 4953310 | AD17: 1314463 | AE17: 2477486 | AF17: 0 | AG17: =SUM(AD17:AF17) -> 3791949 | AH17: 1300000 | AI17: 0 | AJ17: 0 | AK17: =SUM(AH17:AJ17) -> 1300000 | AL17: =AG17+AK17 -> 5091949 | AM17: 1314463 | AN17: 2477486 | AO17: 0 | AP17: =SUM(AM17:AO17) -> 3791949 | AQ17: 300000 | AR17: 0 | AS17: 0 | AT17: =SUM(AQ17:AS17) -> 300000 | AU17: =AP17+AT17 -> 4091949 | AV17: 1314463 | AW17: 2477486 | AX17: 0 | AY17: =AV17+AW17+AX17 -> 3791949 | AZ17: 300000 | BA17: 0 | BB17: 0 | BC17: =AZ17+BA17+BB17 -> 300000 | BD17: =AY17+BC17 -> 4091949
A18: 023 | B18: Diplomatie et relations extérieures | C18: 212230 | D18: 312510.77 | E18: 50000 | F18: =SUM(C18:E18) -> 574740.77 | G18: 0 | H18: 0 | I18: 0 | J18: =G18+H18 -> 0 | K18: =F18+J18 -> 574740.77 | L18: 1043208.2 | M18: 287631.73 | N18: 132500 | O18: =L18+M18+N18 -> 1463339.9 | P18: 0 | Q18: 0 | R18: 0 | S18: =P18+Q18+R18 -> 0 | T18: =O18+S18 -> 1463339.9 | U18: 936265 | V18: 617500 | W18: 100000 | X18: =SUM(U18:W18) -> 1653765 | Y18: 0 | Z18: 0 | AA18: 0 | AB18: =SUM(Y18:AA18) -> 0 | AC18: =X18+AB18 -> 1653765 | AD18: 1098265 | AE18: 606800 | AF18: 100000 | AG18: =SUM(AD18:AF18) -> 1805065 | AI18: 0 | AJ18: 0 | AK18: =SUM(AH18:AJ18) -> 0 | AL18: =AG18+AK18 -> 1805065 | AM18: 1098265 | AN18: 606800 | AO18: 100000 | AP18: =SUM(AM18:AO18) -> 1805065 | AQ18: 0 | AR18: 0 | AS18: 0 | AT18: =SUM(AQ18:AS18) -> 0 | AU18: =AP18+AT18 -> 1805065 | AV18: 1098265 | AW18: 606800 | AX18: 100000 | AY18: =AV18+AW18+AX18 -> 1805065 | AZ18: 0 | BA18: 0 | BB18: 0 | BC18: =AZ18+BA18+BB18 -> 0 | BD18: =AY18+BC18 -> 1805065
A19: 103 | B19: Attractivité et rayonnement du Bénin à l'extérieur | C19: 4795255 | D19: 2701500.9 | E19: 0 | F19: =SUM(C19:E19) -> 7496755.9 | G19: 295369.59 | H19: 0 | I19: 0 | J19: =G19+H19 -> 295369.59 | K19: =F19+J19 -> 7792125.5 | L19: 4201318.1 | M19: 2693279.9 | N19: 21250 | O19: =L19+M19+N19 -> 6915848 | P19: 211492.5 | Q19: 0 | R19: 0 | S19: =P19+Q19+R19 -> 211492.5 | T19: =O19+S19 -> 7127340.5 | U19: 6697976 | V19: 2607015 | W19: 0 | X19: =SUM(U19:W19) -> 9304991 | Y19: 200000 | Z19: 0 | AA19: 0 | AB19: =SUM(Y19:AA19) -> 200000 | AC19: =X19+AB19 -> 9504991 | AD19: 8691293 | AE19: 2989415 | AF19: 0 | AG19: =SUM(AD19:AF19) -> 11680708 | AH19: 600000 | AI19: 0 | AJ19: 0 | AK19: =SUM(AH19:AJ19) -> 600000 | AL19: =AG19+AK19 -> 12280708 | AM19: 9385065 | AN19: 2989415 | AO19: 0 | AP19: =SUM(AM19:AO19) -> 12374480 | AQ19: 600000 | AR19: 0 | AS19: 0 | AT19: =SUM(AQ19:AS19) -> 600000 | AU19: =AP19+AT19 -> 12974480 | AV19: 10130829 | AW19: 2989415 | AX19: 0 | AY19: =AV19+AW19+AX19 -> 13120244 | AZ19: 600000 | BA19: 0 | BB19: 0 | BC19: =AZ19+BA19+BB19 -> 600000 | BD19: =AY19+BC19 -> 13720244
A20: MINISTERE DE L'ECONOMIE ET DES FINANCES | C20: =C21+C22+C23+C24+C25+C26+C27+C28 -> 12620789 | D20: =D21+D22+D23+D24+D25+D26+D27+D28 -> 5046007.9 | E20: =E21+E22+E23+E24+E25+E26+E27+E28 -> 94055642 | F20: =C20+D20+E20 -> 1.1172244e+08 | G20: =G21+G22+G23+G24+G25+G26+G27+G28 -> 1145464.2 | H20: =H21+H22+H23+H24+H25+H26+H27+H28 -> 0 | I20: =I21+I22+I23+I24+I25+I26+I27+I28 -> 0 | J20: =G20+H20+I20 -> 1145464.2 | K20: =K21+K22+K23+K24+K25+K26+K27+K28 -> 1.1387501e+08 | L20: =L21+L22+L23+L24+L25+L26+L27+L28 -> 21406072 | M20: =M21+M22+M23+M24+M25+M26+M27+M28 -> 5227382.6 | N20: =N21+N22+N23+N24+N25+N26+N27+N28 -> 98851726 | O20: =L20+M20+N20 -> 1.2548518e+08 | P20: =P21+P22+P23+P24+P25+P26+P27+P28 -> 2408049.5 | Q20: =Q21+Q22+Q23+Q24+Q25+Q26+Q27+Q28 -> 0 | R20: =R21+R22+R23+R24+R25+R26+R27+R28 -> 0 | S20: =P20+Q20+R20 -> 2408049.5 | T20: =T21+T22+T23+T24+T25+T26+T27+T28 -> 1.3182921e+08 | U20: =U21+U22+U23+U24+U25+U26+U27+U28 -> 23708732 | V20: =V21+V22+V23+V24+V25+V26+V27+V28 -> 15175673 | W20: =W21+W22+W23+W24+W25+W26+W27+W28 -> 117689974 | X20: =X21+X22+X23+X24+X25+X26+X27+X28 -> 156574379 | Y20: =Y21+Y22+Y23+Y24+Y25+Y26+Y27+Y28 -> 7400000 | Z20: =Z21+Z22+Z23+Z24+Z25+Z26+Z27+Z28 -> 0 | AA20: =AA21+AA22+AA23+AA24+AA25+AA26+AA27+AA28 -> 0 | ... AL20: =AL21+AL22+AL23+AL24+AL25+AL26+AL27+AL28 -> 1.6798729e+08 | AM20: =AM21+AM22+AM23+AM24+AM25+AM26 -> 24812048 | AN20: =AN21+AN22+AN23+AN24+AN25+AN26+AN27+AN28 -> 15625673 | AO20: =AO21+AO22+AO23+AO24+AO25+AO26+AO27+AO28 -> 143389974 | AP20: =AP21+AP22+AP23+AP24+AP25+AP26+AP27+AP28 -> 183827695 | AQ20: =AQ21+AQ22+AQ23+AQ24+AQ25+AQ26+AQ27+AQ28 -> 23700000 | AR20: =AR21+AR22+AR23+AR24+AR25+AR26+AR27+AR28 -> 577027 | AS20: =AS21+AS22+AS23+AS24+AS25+AS26+AS27+AS28 -> 3000000 | AT20: =AT21+AT22+AT23+AT24+AT25+AT26+AT27+AT28 -> 27277027 | AU20: =AP20+AT20 -> 211104722 | AV20: =AV21+AV22+AV23+AV24+AV25+AV26+AV27+AV28 -> 26146914 | AW20: =AW21+AW22+AW23+AW24+AW25+AW26+AW27+AW28 -> 15625673 | AX20: =AX21+AX22+AX23+AX24+AX25+AX26+AX27+AX28 -> 155589974 | AY20: =AV20+AW20+AX20 -> 197362561 | AZ20: =AZ21+AZ22+AZ23+AZ24+AZ25+AZ26+AZ27+AZ28 -> 22236893 | BA20: =BA21+BA22+BA23+BA24+BA25+BA26+BA27+BA28 -> 577027 | BB20: =BB21+BB22+BB23+BB24+BB25+BB26+BB27+BB28 -> 3000000 | BC20: =AZ20+BA20+BB20 -> 25813920 | BD20: =AY20+BC20 -> 223176481
A21: 026 | B21: Pilotage et soutien aux services du MEF | C21: 1005419 | D21: 2825709.9 | E21: 0 | F21: =SUM(C21:E21) -> 3831128.9 | G21: 946583.99 | H21: 0 | I21: 0 | J21: =G21+H21 -> 946583.99 | K21: =F21+J21 -> 4777712.9 | L21: 1537729.2 | M21: 2674701.4 | N21: 0 | O21: =L21+M21+N21 -> 4212430.6 | P21: 703334.21 | S21: =P21+Q21+R21 -> 703334.21 | T21: =O21+S21 -> 4915764.8 | U21: 2035008 | V21: 4196101 | W21: 0 | X21: =SUM(U21:W21) -> 6231109 | Y21: 2200000 | AB21: =Y21+Z21+AA21 -> 2200000 | AC21: =X21+AB21 -> 8431109 | AD21: 1933311 | AE21: 4196101 | AF21: 0 | AG21: =SUM(AD21:AF21) -> 6129412 | AH21: 1500000 | AJ21: 3000000 | AK21: =AH21+AI21+AJ21 -> 4500000 | AL21: =AG21+AK21 -> 10629412 | AM21: 2043822 | AN21: 4196101 | AO21: 0 | AP21: =SUM(AM21:AO21) -> 6239923 | AQ21: 2500000 | AR21: 0 | AS21: 3000000 | AT21: =AQ21+AR21+AS21 -> 5500000 | AU21: =AP21+AT21 -> 11739923 | AV21: 2129716 | AW21: 4196101 | AX21: 0 | AY21: =AV21+AW21+AX21 -> 6325817 | AZ21: =300000+1054810 -> 1354810 | BA21: 0 | BB21: 3000000 | BC21: =AZ21+BA21+BB21 -> 4354810 | BD21: =AY21+BC21 -> 10680627
A22: 027 | B22: Gestion du cadre macroéconomique et du secteur financier | C22: 282780 | D22: 316909.52 | E22: 2865000 | F22: =SUM(C22:E22) -> 3464689.5 | G22: 54436.055 | H22: 0 | I22: 0 | J22: =G22+H22 -> 54436.055 | K22: =F22+J22 -> 3519125.6 | L22: 509560.14 | M22: 379907.27 | N22: 3550000 | O22: =L22+M22+N22 -> 4439467.4 | P22: 1004715.3 | Q22: 0 | S22: =P22+Q22+R22 -> 1004715.3 | T22: =O22+S22 -> 5444182.7 | U22: 914333 | V22: 773571 | W22: 3550000 | X22: =SUM(U22:W22) -> 5237904 | Y22: 3100000 | Z22: 0 | AB22: =Y22+Z22+AA22 -> 3100000 | AC22: =X22+AB22 -> 8337904 | AD22: 948850 | AE22: 773570.99 | AF22: 11074974 | AG22: =SUM(AD22:AF22) -> 12797395 | AH22: 4100000 | AI22: 0 | AK22: =AH22+AI22+AJ22 -> 4100000 | AL22: =AG22+AK22 -> 16897395 | AM22: 1016034 | AN22: 773571 | AO22: 11074974 | AP22: =SUM(AM22:AO22) -> 12864579 | AQ22: 19100000 | AR22: 0 | AT22: =AQ22+AR22+AS22 -> 19100000 | AU22: =AP22+AT22 -> 31964579 | AV22: 1068252 | AW22: 773571 | AX22: 11074974 | AY22: =AV22+AW22+AX22 -> 12916797 | AZ22: 19100000 | BA22: 0 | BB22: 0 | BC22: =AZ22+BA22+BB22 -> 19100000 | BD22: =AY22+BC22 -> 32016797
A23: 028 | B23: Mobilisation des ressources financières et gestion de la trésorerie de l'Etat | C23: 9536380 | D23: 1286227.8 | E23: 415000 | F23: =SUM(C23:E23) -> 11237608 | G23: 63853.376 | H23: 0 | I23: 0 | J23: =G23+H23 -> 63853.376 | K23: =F23+J23 -> 11301461 | L23: 15971592 | M23: 1189550 | N23: 411250 | O23: =L23+M23+N23 -> 17572392 | P23: 0 | Q23: 0 | R23: 0 | S23: =P23+Q23+R23 -> 0 | T23: =O23+S23 -> 17572392 | U23: 15961033 | V23: 2536000 | W23: 1315000 | X23: =SUM(U23:W23) -> 19812033 | Y23: 100000 | Z23: 0 | AA23: 0 | AB23: =Y23+Z23+AA23 -> 100000 | AC23: =X23+AB23 -> 19912033 | AD23: 15105434 | AE23: 2986000 | AF23: 1315000 | AG23: =SUM(AD23:AF23) -> 19406434 | AH23: 100000 | AI23: 577027 | AJ23: 0 | AK23: =AH23+AI23+AJ23 -> 677027 | AL23: =AG23+AK23 -> 20083461 | AM23: 16331802 | AN23: 2986000 | AO23: 1315000 | AP23: =SUM(AM23:AO23) -> 20632802 | AQ23: 100000 | AR23: 577027 | AS23: 0 | AT23: =AQ23+AR23+AS23 -> 677027 | AU23: =AP23+AT23 -> 21309829 | AV23: 17284989 | AW23: 2986000 | AX23: 1315000 | AY23: =AV23+AW23+AX23 -> 21585989 | AZ23: 100000 | BA23: 577027 | BB23: 0 | BC23: =AZ23+BA23+BB23 -> 677027 | BD23: =AY23+BC23 -> 22263016
A24: 029 | B24: Gestion des dépenses publiques | C24: 1476713 | D24: 419251.32 | E24: 0 | F24: =SUM(C24:E24) -> 1895964.3 | G24: 80590.758 | H24: 0 | I24: 0 | J24: =G24+H24 -> 80590.758 | K24: =F24+J24 -> 1976555.1 | L24: 2973623.9 | M24: 438858.24 | N24: 0 | O24: =L24+M24+N24 -> 3412482.2 | P24: 0 | Q24: 0 | R24: 0 | S24: =P24+Q24+R24 -> 0 | T24: =O24+S24 -> 3412482.2 | U24: 4041300 | V24: 903811 | W24: 0 | X24: =SUM(U24:W24) -> 4945111 | Y24: 2000000 | Z24: 0 | AA24: 0 | AB24: =Y24+Z24+AA24 -> 2000000 | AC24: =X24+AB24 -> 6945111 | AD24: 4957018 | AE24: 1820001 | AF24: 0 | AG24: =SUM(AD24:AF24) -> 6777019 | AH24: 2000000 | AI24: 0 | AJ24: 0 | AK24: =AH24+AI24+AJ24 -> 2000000 | AL24: =AG24+AK24 -> 8777019 | AM24: 5270390 | AN24: 1820001 | AO24: 0 | AP24: =SUM(AM24:AO24) -> 7090391 | AQ24: 2000000 | AR24: 0 | AS24: 0 | AT24: =AQ24+AR24+AS24 -> 2000000 | AU24: =AP24+AT24 -> 9090391 | AV24: 5513957 | AW24: 1820001 | AX24: 0 | AY24: =AV24+AW24+AX24 -> 7333958 | AZ24: 1682083 | BA24: 0 | BB24: 0 | BC24: =AZ24+BA24+BB24 -> 1682083 | BD24: =AY24+BC24 -> 9016041
A25: 030 | B25: Gestion des biens de l'Etat et du foncier | C25: 214312 | D25: 26567.364 | E25: 3559687 | F25: =SUM(C25:E25) -> 3800566.4 | G25: 0 | H25: 0 | I25: 0 | J25: =G25+H25 -> 0 | K25: =F25+J25 -> 3800566.4 | L25: 305514.8 | M25: 458320.32 | N25: 7634428.3 | O25: =L25+M25+N25 -> 8398263.4 | P25: 700000 | Q25: 0 | R25: 0 | S25: =P25+Q25+R25 -> 700000 | T25: =O25+S25 -> 9098263.4 | U25: 607058 | V25: 916190 | W25: 7524974 | X25: =SUM(U25:W25) -> 9048222 | Y25: 0 | Z25: 0 | AA25: 0 | AB25: =Y25+Z25+AA25 -> 0 | AC25: =X25+AB25 -> 9048222 | AD25: 0 | AE25: 0 | AF25: 0 | AG25: =SUM(AD25:AF25) -> 0 | AH25: 0 | AI25: 0 | AJ25: 0 | AK25: =AH25+AI25+AJ25 -> 0 | AL25: =AG25+AK25 -> 0 | AM25: 0 | AN25: 0 | AO25: 0 | AP25: =SUM(AM25:AO25) -> 0 | AQ25: 0 | AR25: 0 | AS25: 0 | AT25: =AQ25+AR25+AS25 -> 0 | AU25: =AP25+AT25 -> 0 | AV25: 0 | AW25: 0 | AX25: 0 | AY25: =AV25+AW25+AX25 -> 0 | AZ25: 0 | BA25: 0 | BB25: 0 | BC25: =AZ25+BA25+BB25 -> 0 | BD25: =AY25+BC25 -> 0
A26: 31 | B26: Assurance retraite des Agents de l'Etat | C26: 105185 | D26: 171342 | E26: 87215955 | F26: =SUM(C26:E26) -> 87492482 | H26: 0 | I26: 0 | J26: =G26+H26 -> 0 | K26: =F26+J26 -> 87492482 | L26: 108052 | M26: 86045.352 | N26: 87256048 | O26: =L26+M26+N26 -> 87450145 | P26: 0 | Q26: 0 | R26: 0 | S26: =P26+Q26+R26 -> 0 | T26: =O26+S26 -> 87450145 | U26: 150000 | V26: 850000 | W26: 99300000 | X26: =SUM(U26:W26) -> 100300000 | Y26: 0 | Z26: 0 | AA26: 0 | AB26: =Y26+Z26+AA26 -> 0 | AC26: =X26+AB26 -> 100300000 | AD26: ='[2]RECAP 2025'!$O$51 -> 150000 | AE26: ='[2]RECAP 2025'!$P$51 -> 850000 | AF26: ='[2]RECAP 2025'!$Q$52 -> 99600000 | AG26: =SUM(AD26:AF26) -> 100600000 | AH26: 0 | AI26: 0 | AJ26: 0 | AK26: =AH26+AI26+AJ26 -> 0 | AL26: =AG26+AK26 -> 100600000 | AM26: 150000 | AN26: 850000 | AO26: 125000000 | AP26: =SUM(AM26:AO26) -> 126000000 | AQ26: 0 | AR26: 0 | AS26: 0 | AT26: =AQ26+AR26+AS26 -> 0 | AU26: =AP26+AT26 -> 126000000 | AV26: 150000 | AW26: 850000 | AX26: 137200000 | AY26: =AV26+AW26+AX26 -> 138200000 | AZ26: 0 | BA26: 0 | BB26: 0 | BC26: =AZ26+BA26+BB26 -> 0 | BD26: =AY26+BC26 -> 138200000
A27: 107 | B27: Prévention et gestion des catastrophes | C27: 0 | D27: 0 | E27: 0 | F27: =SUM(C27:E27) -> 0 | G27: 0 | H27: 0 | I27: 0 | J27: =G27+H27 -> 0 | K27: ='[1]Classification prog-économi (2'!$Y$111 -> 437010 | L27: 0 | M27: 0 | N27: 0 | O27: =L27+M27+N27 -> 0 | P27: 0 | Q27: 0 | R27: 0 | S27: =P27+Q27+R27 -> 0 | T27: 22000 | V27: 5000000 | W27: 0 | X27: =SUM(U27:W27) -> 5000000 | Y27: 0 | Z27: 0 | AA27: 0 | AB27: =Y27+Z27+AA27 -> 0 | AC27: =X27+AB27 -> 5000000 | AE27: ='[2]RECAP 2025'!$P$58 -> 5000000 | AF27: 0 | AG27: =SUM(AD27:AF27) -> 5000000 | AH27: 0 | AI27: 0 | AJ27: 0 | AK27: =AH27+AI27+AJ27 -> 0 | AL27: =AG27+AK27 -> 5000000 | AM27: 0 | AN27: 5000000 | AO27: 0 | AP27: =SUM(AM27:AO27) -> 5000000 | AQ27: 0 | AR27: 0 | AS27: 0 | AT27: =AQ27+AR27+AS27 -> 0 | AU27: =AP27+AT27 -> 5000000 | AV27: 0 | AW27: 5000000 | AX27: 0 | AY27: =AV27+AW27+AX27 -> 5000000 | AZ27: 0 | BA27: 0 | BB27: 0 | BC27: =AZ27+BA27+BB27 -> 0 | BD27: =AY27+BC27 -> 5000000
A28: 108 | B28: Modernisation des regies financières | C28: 0 | D28: 0 | E28: 0 | F28: =SUM(C28:E28) -> 0 | G28: 0 | H28: 0 | I28: 0 | J28: =G28+H28 -> 0 | K28: ='[1]Classification prog-économi (2'!$Y$112 -> 570100 | L28: 0 | M28: 0 | N28: 0 | O28: =L28+M28+N28 -> 0 | P28: 0 | Q28: 0 | R28: 0 | S28: =P28+Q28+R28 -> 0 | T28: 3913978.7 | V28: 0 | W28: 6000000 | X28: =SUM(U28:W28) -> 6000000 | Y28: 0 | Z28: 0 | AA28: 0 | AB28: =Y28+Z28+AA28 -> 0 | AC28: =X28+AB28 -> 6000000 | AE28: 0 | AF28: 6000000 | AG28: =SUM(AD28:AF28) -> 6000000 | AH28: 0 | AI28: 0 | AJ28: 0 | AK28: =AH28+AI28+AJ28 -> 0 | AL28: =AG28+AK28 -> 6000000 | AM28: 0 | AN28: 0 | AO28: 6000000 | AP28: =SUM(AM28:AO28) -> 6000000 | AQ28: 0 | AR28: 0 | AS28: 0 | AT28: =AQ28+AR28+AS28 -> 0 | AU28: =AP28+AT28 -> 6000000 | AV28: 0 | AW28: 0 | AX28: 6000000 | AY28: =AV28+AW28+AX28 -> 6000000 | AZ28: 0 | BA28: 0 | BB28: 0 | BC28: =AZ28+BA28+BB28 -> 0 | BD28: =AY28+BC28 -> 6000000
A29: MINISTERE DE L'INTERIEUR ET DE LA SECURITE PUBLIQUE | C29: =C30+C31+C32+C33+C34 -> 36441900 | D29: =D30+D31+D32+D33+D34 -> 8871300 | E29: =E30+E31+E32+E33+E34 -> 623000 | F29: =C29+D29+E29 -> 45936200 | G29: =G30+G31+G32+G33+G34 -> 1869100 | H29: =H30+H31+H32+H33+H34 -> 0 | I29: =I30+I31+I32+I33+I34 -> 0 | J29: =G29+H29+I29 -> 1869100 | K29: =F29+J29 -> 47805300 | L29: =L30+L31+L33+L32+L34 -> 46552727 | M29: =M30+M31+M33+M32+M34 -> 6960962.4 | N29: =N30+N31+N33+N32+N34 -> 484000 | O29: =L29+M29+N29 -> 53997690 | P29: =P30+P31+P33+P32+P34 -> 6776115.7 | Q29: =Q30+Q31+Q33+Q32+Q34 -> 0 | R29: =R30+R31+R33+R32+R34 -> 0 | S29: =P29+Q29+R29 -> 6776115.7 | T29: =T30+T31+T32+T33+T34 -> 60773805 | U29: =U30+U31+U33+U32+U34 -> 55552978 | V29: =V30+V31+V33+V32+V34 -> 8650520 | W29: =W30+W31+W33+W32+W34 -> 509000 | X29: =X30+X31+X33+X32+X34 -> 64712498 | Y29: =Y30+Y31+Y33+Y32+Y34 -> 11550000 | Z29: =Z30+Z31+Z33+Z32+Z34 -> 0 | AA29: =AA30+AA31+AA33+AA32+AA34 -> 0 | AB29: =AB30+AB31+AB33+AB32+AB34 -> 11550000 | ... AT29: =AT30+AT31+AT33+AT32+AT34 -> 12800000 | AU29: =AP29+AT29 -> 86624710 | AV29: =AV30+AV31+AV32+AV33+AV34 -> 70201013 | AW29: =AW30+AW31+AW32+AW33+AW34 -> 8220135 | AX29: =AX30+AX31+AX32+AX33+AX34 -> 939385 | AY29: =AV29+AW29+AX29 -> 79360533 | AZ29: =AZ30+AZ31+AZ32+AZ33+AZ34 -> 11000000 | BA29: =BA30+BA31+BA32+BA33+BA34 -> 0 | BB29: =BB30+BB31+BB32+BB33+BB34 -> 0 | BC29: =AZ29+BA29+BB29 -> 11000000 | BD29: =AY29+BC29 -> 90360533
A30: 080 | B30: Pilotage et soutien aux services du MISP | C30: 448700 | D30: 1840600 | E30: 0 | F30: =C30+D30+E30 -> 2289300 | G30: 92800 | H30: 0 | I30: 0 | J30: =G30+H30 -> 92800 | K30: =F30+J30 -> 2382100 | L30: 1014416.4 | M30: 1975686.2 | N30: 0 | O30: =L30+M30+N30 -> 2990102.6 | P30: 365531.24 | Q30: 0 | R30: 0 | S30: =P30+Q30+R30 -> 365531.24 | T30: =O30+S30 -> 3355633.8 | U30: 1260086 | V30: 2786181 | W30: 0 | X30: =SUM(U30:W30) -> 4046267 | Y30: 1272600 | Z30: 0 | AA30: 0 | AB30: =SUM(Y30:AA30) -> 1272600 | AC30: =X30+AB30 -> 5318867 | AD30: 763465 | AE30: 2756181 | AF30: 0 | AG30: =SUM(AD30:AF30) -> 3519646 | AH30: 1000000 | AI30: 0 | AJ30: 0 | AK30: =SUM(AH30:AJ30) -> 1000000 | AL30: =AG30+AK30 -> 4519646 | AM30: 855536 | AN30: 2756181 | AO30: 0 | AP30: =SUM(AM30:AO30) -> 3611717 | AQ30: 1000000 | AR30: 0 | AS30: 0 | AT30: =SUM(AQ30:AS30) -> 1000000 | AU30: =AP30+AT30 -> 4611717 | AV30: 925524 | AW30: 2756181 | AY30: =AV30+AW30+AX30 -> 3681705 | AZ30: 0 | BA30: 0 | BB30: 0 | BC30: =AZ30+BA30+BB30 -> 0 | BD30: =AY30+BC30 -> 3681705
A31: 081 | B31: Sécurité publique | C31: 31942700 | D31: 6605700 | E31: 363000 | F31: =C31+D31+E31 -> 38911400 | G31: 276300 | H31: 0 | I31: 0 | J31: =G31+H31 -> 276300 | K31: =F31+J31 -> 39187700 | L31: 41856735 | M31: 4625994.1 | N31: 184000 | O31: =L31+M31+N31 -> 46666729 | P31: 2289676.8 | S31: =P31+Q31+R31 -> 2289676.8 | T31: =O31+S31 -> 48956406 | U31: 49396696 | V31: 5234954 | W31: 209000 | X31: =SUM(U31:W31) -> 54840650 | Y31: 5600000 | AB31: =SUM(Y31:AA31) -> 5600000 | AC31: =X31+AB31 -> 60440650 | AD31: 50515371 | AE31: 5234954 | AF31: 209000 | AG31: =SUM(AD31:AF31) -> 55959325 | AH31: 4100000 | AK31: =SUM(AH31:AJ31) -> 4100000 | AL31: =AG31+AK31 -> 60059325 | AM31: 56987931 | AN31: 5234954 | AO31: 209000 | AP31: =SUM(AM31:AO31) -> 62431885 | AQ31: 6100000 | AR31: 0 | AS31: 0 | AT31: =SUM(AQ31:AS31) -> 6100000 | AU31: =AP31+AT31 -> 68531885 | AV31: 61908015 | AW31: 5234954 | AX31: 209000 | AY31: =AV31+AW31+AX31 -> 67351969 | AZ31: 7000000 | BA31: 0 | BB31: 0 | BC31: =AZ31+BA31+BB31 -> 7000000 | BD31: =AY31+BC31 -> 74351969
A32: 082 | B32: Protection civile | C32: 3852500 | D32: 311300 | E32: 240000 | F32: =C32+D32+E32 -> 4403800 | G32: 0 | H32: 0 | I32: 0 | J32: =G32+H32 -> 0 | K32: =F32+J32 -> 4403800 | L32: 3521633.6 | M32: 237819.12 | N32: 280000 | O32: =L32+M32+N32 -> 4039452.8 | P32: 347407.64 | S32: =P32+Q32+R32 -> 347407.64 | T32: =O32+S32 -> 4386860.4 | U32: 4746374 | V32: 430385 | W32: 280000 | X32: =SUM(U32:W32) -> 5456759 | Y32: 2677400 | AB32: =SUM(Y32:AA32) -> 2677400 | AC32: =X32+AB32 -> 8134159 | AD32: 5963774 | AE32: 0 | AF32: 710385 | AG32: =SUM(AD32:AF32) -> 6674159 | AH32: 2200000 | AK32: =SUM(AH32:AJ32) -> 2200000 | AL32: =AG32+AK32 -> 8874159 | AM32: 6662937 | AN32: 0 | AO32: 710385 | AP32: =SUM(AM32:AO32) -> 7373322 | AQ32: 2200000 | AR32: 0 | AS32: 0 | AT32: =SUM(AQ32:AS32) -> 2200000 | AU32: =AP32+AT32 -> 9573322 | AV32: 7194402 | AW32: 0 | AX32: 710385 | AY32: =AV32+AW32+AX32 -> 7904787 | AZ32: 2000000 | BA32: 0 | BB32: 0 | BC32: =AZ32+BA32+BB32 -> 2000000 | BD32: =AY32+BC32 -> 9904787
A33: 084 | B33: Gestion intégrée des espaces frontaliers | C33: 58500 | D33: 0 | E33: 20000 | F33: =C33+D33+E33 -> 78500 | G33: 1500000 | H33: 0 | I33: 0 | J33: =G33+H33 -> 1500000 | K33: =F33+J33 -> 1578500 | L33: 0 | M33: 0 | N33: 20000 | O33: =L33+M33+N33 -> 20000 | P33: 3773500 | S33: =P33+Q33+R33 -> 3773500 | T33: =O33+S33 -> 3793500 | U33: 15980 | V33: 0 | W33: 20000 | X33: =U33+V33+W33 -> 35980 | Y33: 2000000 | AB33: =SUM(Y33:AA33) -> 2000000 | AC33: =X33+AB33 -> 2035980 | AD33: 0 | AE33: 0 | AF33: 20000 | AG33: =AD33+AE33+AF33 -> 20000 | AH33: 2000000 | AK33: =SUM(AH33:AJ33) -> 2000000 | AL33: =AG33+AK33 -> 2020000 | AM33: 0 | AN33: 0 | AO33: 20000 | AP33: =AM33+AN33+AO33 -> 20000 | AQ33: 3500000 | AR33: 0 | AS33: 0 | AT33: =SUM(AQ33:AS33) -> 3500000 | AU33: =AP33+AT33 -> 3520000 | AV33: 0 | AW33: 0 | AX33: 20000 | AY33: =AV33+AW33+AX33 -> 20000 | AZ33: 2000000 | BA33: 0 | BB33: 0 | BC33: =AZ33+BA33+BB33 -> 2000000 | BD33: =AY33+BC33 -> 2020000
A34: 083 | B34: Gestion des affaires interieures | C34: 139500 | D34: 113700 | E34: 0 | F34: =C34+D34+E34 -> 253200 | G34: 0 | H34: 0 | I34: 0 | J34: =G34+H34 -> 0 | K34: =F34+J34 -> 253200 | L34: 159942.41 | M34: 121462.99 | N34: 0 | O34: =L34+M34+N34 -> 281405.4 | P34: 0 | R34: 0 | S34: =P34+Q34+R34 -> 0 | T34: =O34+S34 -> 281405.4 | U34: 133842 | V34: 199000 | W34: 0 | X34: =SUM(U34:W34) -> 332842 | Y34: 0 | AA34: 0 | AB34: =SUM(Y34:AA34) -> 0 | AC34: =X34+AB34 -> 332842 | AD34: 139993 | AE34: 229000 | AF34: 0 | AG34: =SUM(AD34:AF34) -> 368993 | AH34: 0 | AJ34: 0 | AK34: =SUM(AH34:AJ34) -> 0 | AL34: =AG34+AK34 -> 368993 | AM34: 158786 | AN34: 229000 | AO34: 0 | AP34: =SUM(AM34:AO34) -> 387786 | AQ34: 0 | AR34: 0 | AS34: 0 | AT34: =SUM(AQ34:AS34) -> 0 | AU34: =AP34+AT34 -> 387786 | AV34: 173072 | AW34: 229000 | AX34: 0 | AY34: =AV34+AW34+AX34 -> 402072 | AZ34: 0 | BA34: 0 | BB34: 0 | BC34: =AZ34+BA34+BB34 -> 0 | BD34: =AY34+BC34 -> 402072
A35: MINISTERE DE L'AGRICULTURE, DE L'ELEVAGE ET DE LA PECHE | C35: =C36+C37+C38+C39 -> 7233307 | D35: =D36+D37+D38+D39 -> 4157363.9 | E35: =E36+E37+E38+E39 -> 14939565 | F35: =C35+D35+E35 -> 26330236 | G35: =G36+G37+G38+G39 -> 22486200 | H35: =H36+H37+H38+H39 -> 35622043 | I35: =I36+I37+I38+I39 -> 35622043 | J35: =G35+H35 -> 58108243 | K35: =F35+J35 -> 84438479 | L35: =L36+L38+L37+L39 -> 8303698.4 | M35: =M36+M38+M37+M39 -> 7351864.3 | N35: =N36+N38+N37+N39 -> 11696641 | O35: =L35+M35+N35 -> 27352204 | P35: =P36+P38+P37+P39 -> 10690179 | Q35: =Q36+Q38+Q37+Q39 -> 14238315 | R35: =R36+R38+R37+R39 -> 44039496 | S35: =P35+Q35+R35 -> 68967990 | T35: =T36+T37+T38+T39 -> 96320194 | U35: =U36+U38+U37+U39 -> 8637840 | V35: =V36+V38+V37+V39 -> 12556016 | W35: =W36+W38+W37+W39 -> 20744823 | X35: =X36+X38+X37+X39 -> 41938679 | Y35: =Y36+Y38+Y37+Y39 -> 28294572 | Z35: =Z36+Z38+Z37+Z39 -> 14916476 | AA35: =AA36+AA38+AA37+AA39 -> 32227028 | AB35: =AB36+AB38+AB37+AB39 -> 75438076 | ... AT35: =AT36+AT38+AT37+AT39 -> 72105896 | AU35: =AP35+AT35 -> 134229311 | AV35: =AV36+AV37+AV38+AV39 -> 11469194 | AW35: =AW36+AW37+AW38+AW39 -> 12556015 | AX35: =AX36+AX37+AX38+AX39 -> 38637059 | AY35: =AV35+AW35+AX35 -> 62662268 | AZ35: =AZ36+AZ37+AZ38+AZ39 -> 47173972 | BA35: =BA36+BA37+BA38+BA39 -> 4383260 | BB35: =BB36+BB37+BB38+BB39 -> 17385000 | BC35: =AZ35+BA35+BB35 -> 68942232 | BD35: =AY35+BC35 -> 131604500
A36: 035 | B36: Pilotage et soutiens aux services du MAEP | C36: 1261809 | D36: 2515397.8 | E36: 339000 | F36: =C36+D36+E36 -> 4116206.8 | G36: 2363690.2 | H36: 0 | I36: 0 | J36: =G36+H36 -> 2363690.2 | K36: =F36+J36 -> 6479897 | L36: 1206928.9 | M36: 3182077.7 | N36: 292730.38 | O36: =L36+M36+N36 -> 4681737 | P36: 181629.58 | Q36: 0 | R36: 0 | S36: =P36+Q36+R36 -> 181629.58 | T36: =O36+S36 -> 4863366.5 | U36: 1008673 | V36: 7129380 | W36: 746837 | X36: =SUM(U36:W36) -> 8884890 | Y36: 971114 | Z36: 0 | AA36: 0 | AB36: =SUM(Y36:AA36) -> 971114 | AC36: =X36+AB36 -> 9856004 | AD36: 2771100 | AE36: 7007660 | AF36: 586837 | AG36: =SUM(AD36:AF36) -> 10365597 | AH36: 863920 | AK36: =SUM(AH36:AJ36) -> 863920 | AL36: =AG36+AK36 -> 11229517 | AM36: 2918552 | AN36: 7007659 | AO36: 586837 | AP36: =SUM(AM36:AO36) -> 10513048 | AQ36: 1068863 | AR36: 0 | AS36: 0 | AT36: =SUM(AQ36:AS36) -> 1068863 | AU36: =AP36+AT36 -> 11581911 | AV36: 3052460 | AW36: 7007659 | AX36: 586837 | AY36: =AV36+AW36+AX36 -> 10646956 | AZ36: 1233097 | BC36: =AZ36+BA36+BB36 -> 1233097 | BD36: =AY36+BC36 -> 11880053
A37: 036 | B37: Agriculture | C37: 4985554 | D37: 1371593.1 | E37: 14600565 | F37: =C37+D37+E37 -> 20957712 | G37: 14795920 | H37: 35622043 | I37: 35622043 | J37: =G37+H37 -> 50417963 | K37: =F37+J37 -> 71375675 | L37: 6687457.4 | M37: 3820180.2 | N37: 11403911 | O37: =L37+M37+N37 -> 21911549 | P37: 6959115.3 | Q37: 14109482 | R37: 43987789 | S37: =P37+Q37+R37 -> 65056386 | T37: =O37+S37 -> 86967935 | U37: 6043052 | V37: 4530122 | W37: 19997986 | X37: =SUM(U37:W37) -> 30571160 | Y37: 17832026 | Z37: 13610559 | AA37: 29234364 | AB37: =SUM(Y37:AA37) -> 60676949 | AC37: =X37+AB37 -> 91248109 | AD37: 6592120 | AE37: 4592842 | AF37: 37836751 | AG37: =SUM(AD37:AF37) -> 49021713 | AH37: 20552562 | AI37: 9866831 | AJ37: 34078389 | AK37: =SUM(AH37:AJ37) -> 64497782 | AL37: =AG37+AK37 -> 1.135195e+08 | AM37: 6968418 | AN37: 4592842 | AO37: 37836752 | AP37: =SUM(AM37:AO37) -> 49398012 | AQ37: 25428129 | AR37: 6154236 | AS37: 19760834 | AT37: =SUM(AQ37:AS37) -> 51343199 | AU37: =AP37+AT37 -> 100741211 | AV37: 7310153 | AW37: 4592842 | AX37: 37850222 | AY37: =AV37+AW37+AX37 -> 49753217 | AZ37: 29335225 | BA37: 3937515 | BB37: 14100398 | BC37: =AZ37+BA37+BB37 -> 47373138 | BD37: =AY37+BC37 -> 97126355
A38: 037 | B38: Elevage | C38: 388083 | D38: 133759.08 | E38: 0 | F38: =C38+D38+E38 -> 521842.08 | G38: 2942404.7 | H38: 0 | I38: 0 | J38: =G38+H38 -> 2942404.7 | K38: =F38+J38 -> 3464246.8 | L38: 409312.11 | M38: 204569.68 | N38: 0 | O38: =L38+M38+N38 -> 613881.79 | P38: 1829840.6 | Q38: 128833 | R38: 51707.236 | S38: =P38+Q38+R38 -> 2010380.8 | T38: =O38+S38 -> 2624262.6 | U38: 1330780 | V38: 413370 | W38: 0 | X38: =SUM(U38:W38) -> 1744150 | Y38: 4836916 | Z38: 1220611 | AA38: 1395109 | AB38: =SUM(Y38:AA38) -> 7452636 | AC38: =X38+AB38 -> 9196786 | AD38: 507992 | AE38: 442370 | AF38: 150000 | AG38: =SUM(AD38:AF38) -> 1100362 | AH38: 6434777 | AI38: 1116972 | AJ38: 6340798.2 | AK38: =SUM(AH38:AJ38) -> 13892547 | AL38: =AG38+AK38 -> 14992909 | AM38: 536140 | AN38: 442370 | AO38: 150000 | AP38: =SUM(AM38:AO38) -> 1128510 | AQ38: 7961263 | AR38: 696688 | AS38: 3676801 | AT38: =SUM(AQ38:AS38) -> 12334752 | AU38: =AP38+AT38 -> 13463262 | AV38: 561703 | AW38: 442370 | AX38: 150000 | AY38: =AV38+AW38+AX38 -> 1154073 | AZ38: 9184530 | BA38: 445745 | BB38: 2623592 | BC38: =AZ38+BA38+BB38 -> 12253867 | BD38: =AY38+BC38 -> 13407940
A39: 038 | B39: Pêche et aquaculture | C39: 597861 | D39: 136613.86 | E39: 0 | F39: =C39+D39+E39 -> 734474.86 | G39: 2384185.2 | H39: 0 | I39: 0 | J39: =G39+H39 -> 2384185.2 | K39: =F39+J39 -> 3118660 | L39: 0 | M39: 145036.77 | N39: 0 | O39: =L39+M39+N39 -> 145036.77 | P39: 1719593.4 | Q39: 0 | R39: 0 | S39: =P39+Q39+R39 -> 1719593.4 | T39: =O39+S39 -> 1864630.1 | U39: 255335 | V39: 483144 | W39: 0 | X39: =SUM(U39:W39) -> 738479 | Y39: 4654516 | Z39: 85306 | AA39: 1597555 | AB39: =SUM(Y39:AA39) -> 6337377 | AC39: =X39+AB39 -> 7075856 | AD39: 494078 | AE39: 513144 | AF39: 50000 | AG39: =SUM(AD39:AF39) -> 1057222 | AH39: 5199314 | AI39: 0 | AJ39: 1597554.7 | AK39: =SUM(AH39:AJ39) -> 6796868.7 | AL39: =AG39+AK39 -> 7854090.7 | AM39: 520701 | AN39: 513144 | AO39: 50000 | AP39: =SUM(AM39:AO39) -> 1083845 | AQ39: 6432717 | AR39: 0 | AS39: 926365 | AT39: =SUM(AQ39:AS39) -> 7359082 | AU39: =AP39+AT39 -> 8442927 | AV39: 544878 | AW39: 513144 | AX39: 50000 | AY39: =AV39+AW39+AX39 -> 1108022 | AZ39: 7421120 | BA39: 0 | BB39: 661010 | BC39: =AZ39+BA39+BB39 -> 8082130 | BD39: =AY39+BC39 -> 9190152
A40: MINISTERE DE LA DECENTRALISATION ET DE LA GOUVERNANCE LOCALE | C40: =C41+C42+C43 -> 1838332 | D40: =D41+D42+D43 -> 2778119.5 | E40: =E41+E42+E43 -> 15086461 | F40: =C40+D40+E40 -> 19702913 | G40: =G41+G42+G43 -> 20530400 | H40: =H41+H42+H43 -> 13257765 | I40: =I41+I42+I43 -> 0 | J40: =G40+H40 -> 33788165 | K40: =F40+J40 -> 53491078 | L40: =L41+L42+L43 -> 2510130.6 | M40: =M41+M42+M43 -> 2584426 | N40: =N41+N42+N43 -> 21769997 | O40: =L40+M40+N40 -> 26864554 | P40: =P41+P42+P43 -> 24117093 | Q40: =Q41+Q42+Q43 -> 0 | R40: =R41+R42+R43 -> 0 | S40: =P40+Q40+R40 -> 24117093 | T40: =T41+T42+T43 -> 50981647 | U40: =U41+U42+U43 -> 2764813 | V40: =V41+V42+V43 -> 3799315 | W40: =W41+W42+W43 -> 24439610 | X40: =U40+V40+W40 -> 31003738 | Y40: =Y41+Y42+Y43 -> 19139000 | Z40: =Z41+Z42+Z43 -> 1254747 | AA40: =AA41+AA42+AA43 -> 0 | AB40: =Y40+Z40+AA40 -> 20393747 | AC40: =X40+AB40 -> 51397485 | AD40: =AD41+AD42+AD43 -> 2675810 | AE40: =AE41+AE42+AE43 -> 3870075 | AF40: =AF41+AF42+AF43 -> 24368850 | AG40: =AD40+AE40+AF40 -> 30914735 | AH40: =AH41+AH42+AH43 -> 13617693 | AI40: =AI41+AI42+AI43 -> 8920555 | AJ40: =AJ41+AJ42+AJ43 -> 0 | AK40: =AH40+AI40+AJ40 -> 22538248 | AL40: =AG40+AK40 -> 53452983 | AM40: =AM41+AM42+AM43 -> 2821656 | AN40: =AN41+AN42+AN43 -> 4033272 | AO40: =AO41+AO42+AO43 -> 28205652 | AP40: =AM40+AN40+AO40 -> 35060580 | AQ40: =AQ41+AQ42+AQ43 -> 18637290 | AR40: =AR41+AR42+AR43 -> 0 | AS40: =AS41+AS42+AS43 -> 0 | AT40: =AQ40+AR40+AS40 -> 18637290 | AU40: =AP40+AT40 -> 53697870 | AV40: =AV41+AV42+AV43 -> 2922938 | AW40: =AW41+AW42+AW43 -> 4033272 | AX40: =AX41+AX42+AX43 -> 28205652 | AY40: =AV40+AW40+AX40 -> 35161862 | AZ40: =AZ41+AZ42+AZ43 -> 36422311 | BA40: =BA41+BA42+BA43 -> 0 | BB40: =BB41+BB42+BB43 -> 0 | BC40: =AZ40+BA40+BB40 -> 36422311 | BD40: =AY40+BC40 -> 71584173
A41: 039 | B41: Pilotage et soutien aux services du MDGL | C41: 1023153 | D41: 1800291.8 | E41: 53150 | F41: =SUM(C41:E41) -> 2876594.8 | G41: 484400 | H41: 0 | I41: 0 | J41: =G41+H41 -> 484400 | K41: =F41+J41 -> 3360994.8 | L41: 1925686.8 | M41: 1712191.7 | N41: 30000 | O41: =L41+M41+N41 -> 3667878.5 | P41: 607092.84 | Q41: 0 | R41: 0 | S41: =P41+Q41+R41 -> 607092.84 | T41: =O41+S41 -> 4274971.3 | U41: 1171678 | V41: 1499683 | X41: =SUM(U41:W41) -> 2671361 | Y41: 800000 | Z41: 0 | AA41: 0 | AB41: =Y41+Z41+AA41 -> 800000 | AC41: =X41+AB41 -> 3471361 | AD41: 1182243 | AE41: 1549004 | AF41: 0 | AG41: =SUM(AD41:AF41) -> 2731247 | AH41: 114200 | AI41: 0 | AJ41: 0 | AK41: =AH41+AI41+AJ41 -> 114200 | AL41: =AG41+AK41 -> 2845447 | AM41: 1264262 | AN41: 1593786 | AO41: 0 | AP41: =SUM(AM41:AO41) -> 2858048 | AQ41: 311234 | AR41: 0 | AS41: 0 | AT41: =AQ41+AR41+AS41 -> 311234 | AU41: =AP41+AT41 -> 3169282 | AV41: 1298906 | AW41: 1584786 | AX41: 0 | AY41: =AV41+AW41+AX41 -> 2883692 | AZ41: 0 | BA41: 0 | BB41: 0 | BC41: =AZ41+BA41+BB41 -> 0 | BD41: =AY41+BC41 -> 2883692
...

Sheet Classif Fonctionnelle
G4: 2022 | N4: 2023 | U4: 2024 | AB4: 2025 | AI4: 2026 | AP4: 2027
A6: N° | B6: FONCTIONS | G6: DEPENSES ORDINAIRES | J6: DEPENSES EN CAPITAL | L6: TOTAL FONCTION | M6: Poids | N6: DEPENSES ORDINAIRES | Q6: DEPENSES EN CAPITAL | S6: TOTAL FONCTION | T6: Poids | U6: DEPENSES ORDINAIRES | X6: DEPENSES EN CAPITAL | Z6: TOTAL FONCTION | AA6: Poids | AB6: DEPENSES ORDINAIRES | AE6: DEPENSES EN CAPITAL | AG6: TOTAL FONCTION | AH6: Poids | AI6: DEPENSES ORDINAIRES | AL6: DEPENSES EN CAPITAL | AN6: TOTAL FONCTION | AO6: Poids | AP6: DEPENSES ORDINAIRES | AS6: DEPENSES EN CAPITAL | AU6: TOTAL FONCTION | AV6: Poids | AW6: Observations
G7: DEPENSES DE PERSONNEL | H7: ACHATS DE BIENS ET SERVICES | I7: AUTRES TRANSFERTS COURANTS | J7: FINANCEMENT INTERIEUR | K7: FINANCEMENT EXTERIEUR | N7: DEPENSES DE PERSONNEL | O7: ACHATS DE BIENS ET SERVICES | P7: AUTRES TRANSFERTS COURANTS | Q7: FINANCEMENT INTERIEUR | R7: FINANCEMENT EXTERIEUR | U7: DEPENSES DE PERSONNEL | V7: DEPENSES D'ACQUISITION DE BIENS ET SERVICES | W7: AUTRES TRANSFERTS COURANTS | X7: FINANCEMENT INTERIEUR | Y7: FINANCEMENT EXTERIEUR | AB7: DEPENSES DE PERSONNEL | AC7: ACHATS DE BIENS ET SERVICES | AD7: AUTRES TRANSFERTS COURANTS | AE7: FINANCEMENT INTERIEUR | AF7: FINANCEMENT EXTERIEUR | AI7: DEPENSES DE PERSONNEL | AJ7: ACHATS DE BIENS ET SERVICES | AK7: AUTRES TRANSFERTS COURANTS | AL7: FINANCEMENT INTERIEUR | AM7: FINANCEMENT EXTERIEUR | AP7: DEPENSES DE PERSONNEL | AQ7: ACHATS DE BIENS ET SERVICES | AR7: AUTRES TRANSFERTS COURANTS | AS7: FINANCEMENT INTERIEUR | AT7: FINANCEMENT EXTERIEUR
A8: 01 | B8: Services Généraux des Administrations publiques | G8: ='[1]Classification fonct-économique'!$Z$4 -> 86302826 | H8: ='[1]Classification fonct-économique'!$AA$4 -> 72680267 | I8: ='[1]Classification fonct-économique'!$AB$4 -> 30126668 | J8: ='[1]Classification fonct-économique'!$AC$4 -> 25994533 | K8: ='[1]Classification fonct-économique'!$AD$4 -> 14541245 | L8: 413895080 | M8: =L8/$Z$19 -> 0.16220366 | N8: ='Classif Prog-Admin-Eco'!L7+'Classif Prog-Admin-Eco'!L16+'Classif Prog-Admin-Eco'!L40+'Classif Prog-Admin-Eco'!L44+'Classif Prog-Admin-Eco'!L126+'Classif Prog-Admin-Eco'!L127+'Classif Prog-Admin-Eco'!L128+'Classif Prog-Admin-Eco'!L129+'Classif Prog-Admin-Eco'!L130+'Classif Prog-Admin-Eco'!L131+'Classif Prog-Admin-Eco'!L132+'Classif Prog-Admin-Eco'!L133+'Classif Prog-Admin-Eco'!L134+'Classif Prog-Admin-Eco'!L135+'Classif Prog-Admin-Eco'!L136+'Classif Prog-Admin-Eco'!L138 -> 72991013 | O8: ='Classif Prog-Admin-Eco'!M7+'Classif Prog-Admin-Eco'!M16+'Classif Prog-Admin-Eco'!M40+'Classif Prog-Admin-Eco'!M44+'Classif Prog-Admin-Eco'!M126+'Classif Prog-Admin-Eco'!M127+'Classif Prog-Admin-Eco'!M128+'Classif Prog-Admin-Eco'!M129+'Classif Prog-Admin-Eco'!M130+'Classif Prog-Admin-Eco'!M131+'Classif Prog-Admin-Eco'!M132+'Classif Prog-Admin-Eco'!M133+'Classif Prog-Admin-Eco'!M134+'Classif Prog-Admin-Eco'!M135+'Classif Prog-Admin-Eco'!M136+'Classif Prog-Admin-Eco'!M137+'Classif Prog-Admin-Eco'!M138 -> 42778869 | P8: ='[3]Regroupement par fonction'!$AB$4 -> 3.5043894e+08 | Q8: ='[3]Regroupement par fonction'!$AC$4 -> 28878270 | R8: ='[3]Regroupement par fonction'!$AD$4 -> 12684375 | S8: =N8+O8+P8+Q8+R8+'Classif Prog-Admin-Eco'!L138 -> 5.4078392e+08 | T8: =S8/$AG$19 -> 0.19463028 | U8: 114011028 | V8: 49891199 | W8: 318030344 | X8: 26100829 | Y8: 11393353 | Z8: =U8+V8+W8+X8+Y8+'Classif Prog-Admin-Eco'!X139 -> 520023332 | AA8: =Z8/$AG$19 -> 0.18715846 | AB8: ='Classif Prog-Admin-Eco'!AD7+'Classif Prog-Admin-Eco'!AD16+'Classif Prog-Admin-Eco'!AD40+'Classif Prog-Admin-Eco'!AD44+'Classif Prog-Admin-Eco'!AD126+'Classif Prog-Admin-Eco'!AD127+'Classif Prog-Admin-Eco'!AD128+'Classif Prog-Admin-Eco'!AD129+'Classif Prog-Admin-Eco'!AD130+'Classif Prog-Admin-Eco'!AD131+'Classif Prog-Admin-Eco'!AD132+'Classif Prog-Admin-Eco'!AD133+'Classif Prog-Admin-Eco'!AD134+'Classif Prog-Admin-Eco'!AD135+'Classif Prog-Admin-Eco'!AD136+'Classif Prog-Admin-Eco'!AD138 -> 121579086 | AC8: ='Classif Prog-Admin-Eco'!AE7+'Classif Prog-Admin-Eco'!AE16+'Classif Prog-Admin-Eco'!AE40+'Classif Prog-Admin-Eco'!AE44+'Classif Prog-Admin-Eco'!AE126+'Classif Prog-Admin-Eco'!AE127+'Classif Prog-Admin-Eco'!AE128+'Classif Prog-Admin-Eco'!AE129+'Classif Prog-Admin-Eco'!AE130+'Classif Prog-Admin-Eco'!AE131+'Classif Prog-Admin-Eco'!AE132+'Classif Prog-Admin-Eco'!AE133+'Classif Prog-Admin-Eco'!AE134+'Classif Prog-Admin-Eco'!AE135+'Classif Prog-Admin-Eco'!AE136+'Classif Prog-Admin-Eco'!AE138 -> 56799811 | AD8: ='Classif Prog-Admin-Eco'!AF7+'Classif Prog-Admin-Eco'!AF16+'Classif Prog-Admin-Eco'!AF40+'Classif Prog-Admin-Eco'!AF44+'Classif Prog-Admin-Eco'!AF126+'Classif Prog-Admin-Eco'!AF127+'Classif Prog-Admin-Eco'!AF128+'Classif Prog-Admin-Eco'!AF129+'Classif Prog-Admin-Eco'!AF130+'Classif Prog-Admin-Eco'!AF131+'Classif Prog-Admin-Eco'!AF132+'Classif Prog-Admin-Eco'!AF133+'Classif Prog-Admin-Eco'!AF134+'Classif Prog-Admin-Eco'!AF135+'Classif Prog-Admin-Eco'!AF136+'Classif Prog-Admin-Eco'!AF137+'Classif Prog-Admin-Eco'!AF138 -> 358801607 | AE8: ='Classif Prog-Admin-Eco'!AH7+'Classif Prog-Admin-Eco'!AH16+'Classif Prog-Admin-Eco'!AH40+'Classif Prog-Admin-Eco'!AH44+'Classif Prog-Admin-Eco'!AH126+'Classif Prog-Admin-Eco'!AH136 -> 26627232 | AF8: ='Classif Prog-Admin-Eco'!AI40+'Classif Prog-Admin-Eco'!AI125+'Classif Prog-Admin-Eco'!AJ125 -> 22667587 | AG8: =AB8+AC8+AD8+AE8+AF8+'Classif Prog-Admin-Eco'!AG139 -> 587120523 | AH8: =AG8/$AN$19 -> 0.19423711 | AI8: ='Classif Prog-Admin-Eco'!AM7+'Classif Prog-Admin-Eco'!AM16+'Classif Prog-Admin-Eco'!AM40+'Classif Prog-Admin-Eco'!AM44+'Classif Prog-Admin-Eco'!AM125 -> 130202754 | AJ8: ='Classif Prog-Admin-Eco'!AN7+'Classif Prog-Admin-Eco'!AN16+'Classif Prog-Admin-Eco'!AN40+'Classif Prog-Admin-Eco'!AN44+'Classif Prog-Admin-Eco'!AN125 -> 62217492 | AK8: ='Classif Prog-Admin-Eco'!AO7+'Classif Prog-Admin-Eco'!AO16+'Classif Prog-Admin-Eco'!AO40+'Classif Prog-Admin-Eco'!AO44+'Classif Prog-Admin-Eco'!AO125 -> 371816070 | AL8: ='Classif Prog-Admin-Eco'!AQ7+'Classif Prog-Admin-Eco'!AQ16+'Classif Prog-Admin-Eco'!AQ40+'Classif Prog-Admin-Eco'!AQ44+'Classif Prog-Admin-Eco'!AQ126+'Classif Prog-Admin-Eco'!AQ136 -> 37389829 | AM8: ='Classif Prog-Admin-Eco'!AR125+'Classif Prog-Admin-Eco'!AS125 -> 10862032 | AN8: =AI8+AJ8+AK8+AL8+AM8+'Classif Prog-Admin-Eco'!AU139 -> 613133377 | AO8: =AN8/$AU$19 -> 0.18468429 | AP8: ='Classif Prog-Admin-Eco'!AV7+'Classif Prog-Admin-Eco'!AV16+'Classif Prog-Admin-Eco'!AV40+'Classif Prog-Admin-Eco'!AV44+'Classif Prog-Admin-Eco'!AV125 -> 140298453 | AQ8: ='Classif Prog-Admin-Eco'!AW7+'Classif Prog-Admin-Eco'!AW16+'Classif Prog-Admin-Eco'!AW40+'Classif Prog-Admin-Eco'!AW44+'Classif Prog-Admin-Eco'!AW125 -> 74747092 | AR8: ='Classif Prog-Admin-Eco'!AX7+'Classif Prog-Admin-Eco'!AX16+'Classif Prog-Admin-Eco'!AX40+'Classif Prog-Admin-Eco'!AX44+'Classif Prog-Admin-Eco'!AX125 -> 414428470 | AS8: ='Classif Prog-Admin-Eco'!AZ7+'Classif Prog-Admin-Eco'!AZ16+'Classif Prog-Admin-Eco'!AZ40+'Classif Prog-Admin-Eco'!AZ44+'Classif Prog-Admin-Eco'!AZ125 -> 44022311 | AT8: ='Classif Prog-Admin-Eco'!BA125+'Classif Prog-Admin-Eco'!BB125 -> 5534032 | AU8: =SUM(AP8:AT8)+'Classif Prog-Admin-Eco'!BD139 -> 679675558 | AV8: =AU8/$AU$19 -> 0.20472772 | AW8: MDC, MAEC, MDGL, MTFP, AN, CC, CS, CES, HAC, HCJ, MR, CENA, CBDH, APDP, PR, Dépenses d'intervention publique accidentelle et imprévisible, Cour des Comptes et Dotations pour les crédits destinés à couvrir les défauts de remboursement ou les appels en garanties intervenues sur les comptes d'avances, de prêts, d'aval et de garanties
A9: 02 | B9: Defense | G9: ='[1]Classification fonct-économique'!$Z$12 -> 37503896 | H9: ='[1]Classification fonct-économique'!$AA$12 -> 9804652.4 | I9: ='[1]Classification fonct-économique'!$AB$12 -> 48699.124 | J9: ='[1]Classification fonct-économique'!$AC$12 -> 54775908 | K9: ='[1]Classification fonct-économique'!$AD$12 -> 0 | L9: =G9+H9+I9+J9+K9 -> 1.0213316e+08 | M9: =L9/$Z$19 -> 0.040025534 | N9: ='[3]Regroupement par fonction'!$Z$5 -> 50492409 | O9: ='[3]Regroupement par fonction'!$AA$5 -> 18817275 | P9: ='[3]Regroupement par fonction'!$AB$5 -> 456000 | Q9: ='[3]Regroupement par fonction'!$AC$5 -> 16264238 | R9: ='[3]Regroupement par fonction'!$AD$5 -> 0 | S9: =N9+O9+P9+Q9+R9+'Classif Prog-Admin-Eco'!T102 -> 90413011 | T9: =S9/$AG$19 -> 0.032540001 | U9: 53529725 | V9: 20932385 | W9: 750000 | X9: 18239984 | Y9: 8000000 | Z9: =U9+V9+W9+X9+Y9 -> 101452094 | AA9: =Z9/$AG$19 -> 0.036513011 | AB9: ='Classif Prog-Admin-Eco'!AD99 -> 60711122 | AC9: ='Classif Prog-Admin-Eco'!AE99 -> 42369185 | AD9: ='Classif Prog-Admin-Eco'!AF99 -> 1313200 | AE9: ='Classif Prog-Admin-Eco'!AH99 -> 21737228 | AF9: ='Classif Prog-Admin-Eco'!AJ99 -> 0 | AG9: =AB9+AC9+AD9+AE9+AF9 -> 126130735 | AH9: =AG9/$AN$19 -> 0.041727838 | AI9: ='Classif Prog-Admin-Eco'!AM99 -> 65206248 | AJ9: ='Classif Prog-Admin-Eco'!AN99 -> 42369185 | AK9: ='Classif Prog-Admin-Eco'!AO99 -> 1313200 | AL9: ='Classif Prog-Admin-Eco'!AQ99 -> 21522373 | AM9: ='Classif Prog-Admin-Eco'!AS99 -> 0 | AN9: =AI9+AJ9+AK9+AL9+AM9 -> 130411006 | AO9: =AN9/$AU$19 -> 0.039281607 | AP9: ='Classif Prog-Admin-Eco'!AV99 -> 69443272 | AQ9: ='Classif Prog-Admin-Eco'!AW99 -> 42369184 | AR9: ='Classif Prog-Admin-Eco'!AX99 -> 1313200 | AS9: ='Classif Prog-Admin-Eco'!AZ99 -> 24013737 | AT9: ='Classif Prog-Admin-Eco'!BB99 -> 0 | AU9: =AP9+AQ9+AR9+AS9+AT9 -> 137139393 | AV9: =AU9/$AU$19 -> 0.04130829 | AW9: MDN, Compte OME
A10: 03 | B10: Ordre et Sécurité Publique | G10: ='[1]Classification fonct-économique'!$Z$10 -> 43725970 | H10: ='[1]Classification fonct-économique'!$AA$10 -> 11336852 | I10: ='[1]Classification fonct-économique'!$AB$10 -> 1153385.8 | J10: ='[1]Classification fonct-économique'!$AC$10 -> 7145248.2 | K10: ='[1]Classification fonct-économique'!$AD$10 -> 0 | L10: =G10+H10+I10+J10+K10 -> 63361456 | M10: =L10/$Z$19 -> 0.024831076 | N10: ='Classif Prog-Admin-Eco'!L10+'Classif Prog-Admin-Eco'!L29 -> 55488371 | O10: ='[3]Regroupement par fonction'!$AA$6 -> 9503559.8 | P10: ='[3]Regroupement par fonction'!$AB$6 -> 11712790 | Q10: ='[3]Regroupement par fonction'!$AC$6 -> 11176116 | R10: 0 | S10: =N10+O10+P10+Q10+R10 -> 87880837 | T10: =S10/$AG$19 -> 0.031628661 | U10: 65910849 | V10: 13347204 | W10: 10887981 | X10: 23330000 | Y10: ='Classif Prog-Admin-Eco'!AI10+'Classif Prog-Admin-Eco'!AI29 -> 0 | Z10: =U10+V10+W10+X10+Y10 -> 113476034 | AA10: =Z10/$AG$19 -> 0.040840474 | AB10: ='Classif Prog-Admin-Eco'!AD10+'Classif Prog-Admin-Eco'!AD29 -> 68542405 | AC10: ='Classif Prog-Admin-Eco'!AE10+'Classif Prog-Admin-Eco'!AE29 -> 12483095 | AD10: ='Classif Prog-Admin-Eco'!AF10+'Classif Prog-Admin-Eco'!AF29 -> 12652090 | AE10: ='Classif Prog-Admin-Eco'!AH10+'Classif Prog-Admin-Eco'!AH29 -> 19820000 | AF10: ='Classif Prog-Admin-Eco'!AI10+'Classif Prog-Admin-Eco'!AI29 -> 0 | AG10: =AB10+AC10+AD10+AE10+AF10 -> 113497590 | AH10: =AG10/$AN$19 -> 0.037548414 | AI10: ='Classif Prog-Admin-Eco'!AM10+'Classif Prog-Admin-Eco'!AM29 -> 76491380 | AJ10: ='Classif Prog-Admin-Eco'!AN10+'Classif Prog-Admin-Eco'!AN29 -> 12483095 | AK10: ='Classif Prog-Admin-Eco'!AO10+'Classif Prog-Admin-Eco'!AO29 -> 12652090 | AL10: ='Classif Prog-Admin-Eco'!AQ10+'Classif Prog-Admin-Eco'!AQ29 -> 25550000 | AM10: ='Classif Prog-Admin-Eco'!AR29 -> 0 | AN10: =AI10+AJ10+AK10+AL10+AM10 -> 127176565 | AO10: =AN10/$AU$19 -> 0.038307348 | AP10: ='Classif Prog-Admin-Eco'!AV10+'Classif Prog-Admin-Eco'!AV29 -> 82542771 | AQ10: ='Classif Prog-Admin-Eco'!AW10+'Classif Prog-Admin-Eco'!AW29 -> 12483095 | AR10: ='Classif Prog-Admin-Eco'!AX10+'Classif Prog-Admin-Eco'!AX29 -> 12652090 | AS10: ='Classif Prog-Admin-Eco'!AZ10+'Classif Prog-Admin-Eco'!AZ29 -> 19687000 | AT10: ='Classif Prog-Admin-Eco'!BB10 -> 0 | AU10: =AP10+AQ10+AR10+AS10+AT10 -> 127364956 | AV10: =AU10/$AU$19 -> 0.038364094 | AW10: MJL, MISP
