Workbook

Sheet Classif Prog-Admin-Eco
AL2: =AH7+AH40+AH44+AQ1347 -> 8920555 | AN2: =AM44-AD44 -> 0 | AP2: =AM123-AD123 -> -21296421 | AS2: =AE44-AN44 -> 0
AZ3: (en milliers de francs CFA)
C4: 2022 | K4: 2023 | T4: 2024 | AC4: 2025 | AL4: 2026 | AU4: 2027 | BD4: 2028
K5: DEPENSES ORDINAIRES | O5: DEPENSES EN CAPITAL | T5: DEPENSES ORDINAIRES | X5: DEPENSES EN CAPITAL | AC5: DEPENSES ORDINAIRES | AG5: DEPENSES EN CAPITAL | AL5: DEPENSES ORDINAIRES | AP5: DEPENSES EN CAPITAL | AU5: DEPENSES ORDINAIRES | AY5: DEPENSES EN CAPITAL | BD5: DEPENSES ORDINAIRES | BH5: DEPENSES EN CAPITAL
A6: Code Prog. | B6: Ministère /Programme/Dotation | C6: Dépenses de personnel | D6: Dépenses d'acquisitions de biens et services | E6: Dépenses de transfert | F6: Total dépenses ordinaires (a) | G6: Ressources Intérieures | H6: Ressources extérieures | I6: Total dépenses en capital (b) | J6: Total des Prévisions | K6: Dépenses de personnel | L6: Dépenses d'acquisitions de biens et services | M6: Dépenses de transfert | N6: Total dépenses ordinaires (a) | O6: Ressources Intérieures | P6: Ressources extérieures (dons) | Q6: Ressources extérieures (prêts) | R6: Total dépenses en capital (b) | S6: Total des Prévisions | T6: Dépenses de personnel | U6: Dépenses d'acquisitions de biens et services | V6: Dépenses de transfert | W6: Total dépenses ordinaires (a) | X6: Ressources Intérieures | Y6: Ressources extérieures (dons) | Z6: Ressources extérieures (prêts) | AA6: Total dépenses en capital (b) | AB6: Total des Prévisions | AC6: Dépenses de personnel | AD6: Dépenses d'acquisitions de biens et services | AE6: Dépenses de transfert | AF6: Total dépenses ordinaires (a) | AG6: Ressources Intérieures | AH6: Ressources extérieures (dons) | AI6: Ressources extérieures (prêts) | AJ6: Total dépenses en capital (b) | AK6: Total des Prévisions | AL6: Dépenses de personnel | AM6: Dépenses d'acquisitions de biens et services | AN6: Dépenses de transfert | AO6: Total dépenses ordinaires (a) | AP6: Ressources Intérieures | AQ6: Ressources extérieures (dons) | AR6: Ressources extérieures (prêts) | AS6: Total dépenses en capital (b) | AT6: Total des Prévisions | AU6: Dépenses de personnel | AV6: Dépenses d'acquisitions de biens et services | AW6: Dépenses de transfert | AX6: Total dépenses ordinaires (a) | AY6: Ressources Intérieures | AZ6: Ressources extérieures (dons) | BA6: Ressources extérieures (prêts) | BB6: Total dépenses en capital (b) | BC6: Total des Prévisions | BD6: Dépenses de personnel | BE6: Dépenses d'acquisitions de biens et services | BF6: Dépenses de transfert | BG6: Total dépenses ordinaires (a) | BH6: Ressources Intérieures | BI6: Ressources extérieures (dons) | BJ6: Ressources extérieures (prêts) | BK6: Total dépenses en capital (b) | BL6: Total des Prévisions
A7: MINISTERE DU DEVELOPPEMENT ET DE LA COORDINATION DE L'ACTION GOUVERNEMENTALE | C7: =C8+C9 -> 1117950.4 | D7: =D8+D9 -> 2480961.2 | E7: =E8+E9 -> 331003.83 | F7: =F8+F9 -> 3929915.4 | G7: =G8+G9 -> 450000 | H7: =H8+H9 -> 283480.07 | I7: =G7+H7 -> 733480.07 | J7: =F7+I7 -> 4663395.5 | K7: =K8+K9 -> 1819885.7 | L7: =L8+L9 -> 2311320.6 | M7: =M8+M9 -> 361951.4 | N7: =K7+L7+M7 -> 4493157.7 | O7: =O8+O9 -> 895454.5 | P7: =P8+P9 -> 0 | Q7: =Q8+Q9 -> 0 | R7: =O7+P7+Q7 -> 895454.5 | S7: =S8+S9 -> 5388612.2 | T7: =T8+T9 -> 1743056.2 | U7: =U8+U9 -> 2357445.4 | V7: =V8+V9 -> 675068.36 | W7: =T7+U7+V7 -> 4775569.9 | X7: =X8+X9 -> 2172727 | Y7: =Y8+Y9 -> 0 | Z7: =Z8+Z9 -> 0 | AA7: =X7+Y7+Z7 -> 2172727 | AB7: =W7+AA7 -> 6948296.9 | AC7: =AC8+AC9 -> 1955707 | AD7: =AD8+AD9 -> 2814355 | AE7: =AE8+AE9 -> 931257 | AF7: =AC7+AD7+AE7 -> 5701319 | AG7: =AG8+AG9 -> 2309091 | AH7: =AH8+AH9 -> 0 | AI7: =AI8+AI9 -> 0 | AJ7: =AG7+AH7+AI7 -> 2309091 | AK7: =AF7+AG7 -> 8010410 | AL7: =AL8+AL9 -> 1809949 | AM7: =AM8+AM9 -> 2748795 | AN7: =AN8+AN9 -> 996817 | AO7: =AL7+AM7+AN7 -> 5555561 | AP7: =AP8+AP9 -> 3099520 | AQ7: =AQ8+AQ9 -> 0 | AR7: =AR8+AR9 -> 0 | AS7: =AP7+AQ7+AR7 -> 3099520 | AT7: =AO7+AS7 -> 8655081 | AU7: =AU8+AU9 -> 1872545 | AV7: =AV8+AV9 -> 2748795 | AW7: =AW8+AW9 -> 996817 | AX7: =AU7+AV7+AW7 -> 5618157 | AY7: =AY8+AY9 -> 2500000 | AZ7: =AZ8+AZ9 -> 0 | BA7: =BA8+BA9 -> 0 | BB7: =AY7+AZ7+BA7 -> 2500000 | BC7: =AX7+BB7 -> 8118157 | BD7: =BD8+BD9 -> 1940909 | BE7: =BE8+BE9 -> 2748795 | BF7: =BF8+BF9 -> 996817 | BG7: =BD7+BE7+BF7 -> 5686521 | BH7: =BH8+BH9 -> 3209091 | BI7: =BI8+BI9 -> 0 | BJ7: =BJ8+BJ9 -> 0 | BK7: =BH7+BI7+BJ7 -> 3209091 | BL7: =BG7+BK7 -> 8895612
A8: 015 | B8: Pilotage et soutien aux services du MDC | C8: ='[1]Classification prog-économique'!$D$5*1000 -> 994504.31 | D8: ='[2]Classification prog-économique'!$G$5*1000 -> 2325265.2 | E8: ='[2]Classification prog-économique'!$J$5*1000 -> 128066.83 | F8: =C8+D8+E8 -> 3447836.3 | G8: ='[2]Classification prog-économique'!$P$5*1000 -> 0 | H8: ='[2]Classification prog-économique'!$S$5*1000 -> 0 | I8: 0 | J8: =F8+I8 -> 3447836.3 | K8: ='[3]Classification programmatique'!$D$5*1000 -> 1148065.3 | L8: ='[3]Classification programmatique'!$G$5*1000 -> 2066311.5 | M8: ='[3]Classification programmatique'!$J$5*1000 -> 116481.4 | N8: =K8+L8+M8 -> 3330858.3 | O8: 0 | P8: 0 | Q8: 0 | R8: =O8+P8+Q8 -> 0 | S8: =N8+R8 -> 3330858.3 | T8: ='[4]Classification programmatique'!$D$5*1000 -> 1240625.5 | U8: ='[4]Classification programmatique'!$G$5*1000 -> 1926697.2 | V8: ='[4]Classification programmatique'!$J$5*1000 -> 329598.36 | W8: =SUM(T8:V8) -> 3496921.1 | X8: 0 | Y8: 0 | Z8: 0 | AA8: =X8+Y8+Z8 -> 0 | AB8: =W8+AA8 -> 3496921.1 | AC8: 1339732 | AD8: 2258327 | AE8: 485787 | AF8: =SUM(AC8:AE8) -> 4083846 | AG8: 0 | AH8: 0 | AI8: 0 | AJ8: =AG8+AH8+AI8 -> 0 | AK8: =AF8+AJ8 -> 4083846 | AL8: 1237728 | AM8: 2170767 | AN8: 551347 | AO8: =SUM(AL8:AN8) -> 3959842 | AP8: 0 | AQ8: 0 | AR8: 0 | AS8: =AP8+AQ8+AR8 -> 0 | AT8: =AO8+AS8 -> 3959842 | AU8: 1279815 | AV8: 2170767 | AW8: 551347 | AX8: =AU8+AV8+AW8 -> 4001929 | AY8: 0 | AZ8: 0 | BA8: 0 | BB8: =AY8+AZ8+BA8 -> 0 | BC8: =AX8+BB8 -> 4001929 | BD8: 1325780 | BE8: 2170767 | BF8: 551347 | BG8: =BD8+BE8+BF8 -> 4047894 | BH8: 0 | BI8: 0 | BJ8: 0 | BK8: =BH8+BI8+BJ8 -> 0 | BL8: =BG8+BK8 -> 4047894
A9: 016 | B9: Orientation et évaluation des politiques de développement | C9: ='[2]Classification prog-économique'!$D$6*1000 -> 123446.09 | D9: ='[2]Classification prog-économique'!$G$6*1000 -> 155695.95 | E9: ='[2]Classification prog-économique'!$J$6*1000 -> 202937 | F9: =C9+D9+E9 -> 482079.04 | G9: ='[2]Classification prog-économique'!$P$6*1000 -> 450000 | H9: ='[2]Classification prog-économique'!$S$6*1000 -> 283480.07 | I9: =G9+H9 -> 733480.07 | J9: =F9+I9 -> 1215559.1 | K9: ='[3]Classification programmatique'!$D$6*1000 -> 671820.35 | L9: ='[3]Classification programmatique'!$G$6*1000 -> 245009.09 | M9: ='[3]Classification programmatique'!$J$6*1000 -> 245470 | N9: =K9+L9+M9 -> 1162299.4 | O9: ='[3]Classification programmatique'!$P$6*1000 -> 895454.5 | P9: 0 | Q9: 0 | R9: =O9+P9+Q9 -> 895454.5 | S9: =N9+R9 -> 2057753.9 | T9: ='[4]Classification programmatique'!$D$6*1000 -> 502430.63 | U9: ='[4]Classification programmatique'!$G$6*1000 -> 430748.13 | V9: ='[4]Classification programmatique'!$J$6*1000 -> 345470 | W9: =SUM(T9:V9) -> 1278648.8 | X9: ='[4]Classification programmatique'!$P$6*1000 -> 2172727 | Y9: ='[4]Classification programmatique'!$S$6*1000 -> 0 | Z9: 0 | AA9: =X9+Y9+Z9 -> 2172727 | AB9: =W9+AA9 -> 3451375.8 | AC9: 615975 | AD9: 556028 | AE9: 445470 | AF9: =SUM(AC9:AE9) -> 1617473 | AG9: 2309091 | AH9: 0 | AI9: 0 | AJ9: =AG9+AH9+AI9 -> 2309091 | AK9: =AF9+AJ9 -> 3926564 | AL9: 572221 | AM9: ='[5]TMC Prog-Eco'!$D$7 -> 578028 | AN9: 445470 | AO9: =SUM(AL9:AN9) -> 1595719 | AP9: ='[5]TMC Prog-Eco'!$H$7 -> 3099520 | AQ9: 0 | AR9: 0 | AS9: =AP9+AQ9+AR9 -> 3099520 | AT9: =AO9+AS9 -> 4695239 | AU9: 592730 | AV9: 578028 | AW9: 445470 | AX9: =AU9+AV9+AW9 -> 1616228 | AY9: 2500000 | AZ9: 0 | BA9: 0 | BB9: =AY9+AZ9+BA9 -> 2500000 | BC9: =AX9+BB9 -> 4116228 | BD9: 615129 | BE9: 578028 | BF9: 445470 | BG9: =BD9+BE9+BF9 -> 1638627 | BH9: 3209091 | BI9: 0 | BJ9: 0 | BK9: =BH9+BI9+BJ9 -> 3209091 | BL9: =BG9+BK9 -> 4847718
A10: MINISTERE DE LA JUSTICE ET DE LA LEGISLATION | C10: =C11+C12+C13+C14+C15 -> 7284190.8 | D10: =D11+D12+D13+D14+D15 -> 2465525.5 | E10: =E11+E12+E13+E14+E15 -> 10910858 | F10: =F11+F12+F13+F14+F15 -> 20660574 | G10: =G11+G12+G13+G14+G15 -> 5276186.2 | H10: =H11+H12+H13+H14+H15 -> 0 | I10: =G10+H10 -> 5276186.2 | J10: =F10+I10 -> 25936760 | K10: =K11+K12+K13+K14+K15 -> 8935643.8 | L10: =L11+L12+L13+L14+L15 -> 2542597.4 | M10: =M11+M12+M13+M14+M15 -> 11228790 | N10: =K10+L10+M10 -> 22707031 | O10: =O11+O12+O13+O14+O15 -> 4400000 | P10: =P11+P12+P13+P14+P15 -> 0 | Q10: =Q11+Q12+Q13+Q14+Q15 -> 0 | R10: =O10+P10+Q10 -> 4400000 | S10: =S11+S12+S13+S14+S15 -> 27107031 | T10: =T11+T12+T13+T14+T15 -> 10341344 | U10: =U11+U12+U13+U14+U15 -> 2461479.2 | V10: =V11+V12+V13+V14+V15 -> 10378981 | W10: =W11+W12+W13+W14+W15 -> 23181804 | X10: =X11+X12+X13+X14+X15 -> 11655000 | Y10: =Y11+Y12+Y13+Y14+Y15 -> 0 | Z10: =Z11+Z12+Z13+Z14+Z15 -> 0 | ... AN10: =AN11+AN12+AN13+AN14+AN15 -> 12419362 | AO10: =AL10+AM10+AN10 -> 30406598 | AP10: =AP11+AP12+AP13+AP14+AP15 -> 12827098 | AQ10: =AQ11+AQ12+AQ13+AQ14+AQ15 -> 0 | AR10: =AR11+AR12+AR13+AR14+AR15 -> 0 | AS10: =AS11+AS12+AS13+AS14+AS15 -> 12827098 | AT10: =AO10+AS10 -> 43233696 | AU10: =AU11+AU12+AU13+AU14+AU15 -> 13893018 | AV10: =AV11+AV12+AV13+AV14+AV15 -> 4676303 | AW10: =AW11+AW12+AW13+AW14+AW15 -> 12419362 | AX10: =AU10+AV10+AW10 -> 30988683 | AY10: =AY11+AY12+AY13+AY14+AY15 -> 12240647 | AZ10: =AZ11+AZ12+AZ13+AZ14+AZ15 -> 0 | BA10: =BA11+BA12+BA13+BA14+BA15 -> 0 | BB10: =AY10+AZ10+BA10 -> 12240647 | BC10: =AX10+BB10 -> 43229330 | BD10: =BD11+BD12+BD13+BD14+BD15 -> 14507870 | BE10: =BE11+BE12+BE13+BE14+BE15 -> 4676302 | BF10: =BF11+BF12+BF13+BF14+BF15 -> 12419362 | BG10: =BD10+BE10+BF10 -> 31603534 | BH10: =BH11+BH12+BH13+BH14+BH15 -> 14600000 | BI10: =BI11+BI12+BI13+BI14+BI15 -> 0 | BJ10: =BJ11+BJ12+BJ13+BJ14+BJ15 -> 0 | BK10: =BH10+BI10+BJ10 -> 14600000 | BL10: =BG10+BK10 -> 46203534
A11: 018 | B11: Pilotage et soutien aux services du MJL | C11: ='[2]Classification prog-économique'!$D$8*1000 -> 2999419.3 | D11: ='[2]Classification prog-économique'!$G$8*1000 -> 2184306.8 | E11: ='[2]Classification prog-économique'!$J$8*1000 -> 75000 | F11: =C11+D11+E11 -> 5258726.1 | G11: ='[2]Classification prog-économique'!$P$8*1000 -> 308619.22 | I11: =G11+H11 -> 308619.22 | J11: =F11+I11 -> 5567345.3 | K11: ='[3]Classification programmatique'!$D$8*1000 -> 1493544.6 | L11: ='[3]Classification programmatique'!$G$8*1000 -> 2271248.6 | M11: ='[3]Classification programmatique'!$J$8*1000 -> 139400 | N11: =K11+L11+M11 -> 3904193.1 | O11: 0 | P11: 0 | Q11: 0 | R11: =O11+P11+Q11 -> 0 | S11: =N11+R11 -> 3904193.1 | T11: ='[4]Classification programmatique'!$D$8*1000 -> 2060274.9 | U11: ='[4]Classification programmatique'!$G$8*1000 -> 2188135.3 | V11: 0 | W11: =SUM(T11:V11) -> 4248410.2 | X11: 0 | Y11: 0 | Z11: 0 | AA11: =X11+Y11+Z11 -> 0 | AB11: =W11+AA11 -> 4248410.2 | AC11: 1436019 | AD11: 3188930 | AE11: 0 | AF11: =SUM(AC11:AE11) -> 4624949 | AG11: 0 | AH11: 0 | AI11: 0 | AJ11: =AG11+AH11+AI11 -> 0 | AK11: =AF11+AJ11 -> 4624949 | AL11: ='[5]TMC Prog-Eco'!$C$9 -> 1633841.7 | AM11: ='[5]TMC Prog-Eco'!$D$9 -> 3921322.1 | AN11: 0 | AO11: =AL11+AM11+AN11 -> 5555163.8 | AP11: 0 | AQ11: 0 | AR11: 0 | AS11: =AP11+AQ11+AR11 -> 0 | AT11: =AO11+AS11 -> 5555163.8 | AU11: 1722152 | AV11: 3921322 | AW11: 0 | AX11: =AU11+AV11+AW11 -> 5643474 | AY11: 0 | AZ11: 0 | BA11: 0 | BB11: =AY11+AZ11+BA11 -> 0 | BC11: =AX11+BB11 -> 5643474 | BD11: 1815434 | BE11: 3921321 | BF11: 0 | BG11: =BD11+BE11+BF11 -> 5736755 | BH11: 0 | BI11: 0 | BJ11: 0 | BK11: =BH11+BI11+BJ11 -> 0 | BL11: =BG11+BK11 -> 5736755
A12: 019 | B12: Cadre législatif normatif et institutionnel | C12: ='[2]Classification prog-économique'!$D$9*1000 -> 416252.47 | D12: ='[2]Classification prog-économique'!$G$9*1000 -> 165575.98 | E12: ='[2]Classification prog-économique'!$J$9*1000 -> 85848.33 | F12: =C12+D12+E12 -> 667676.78 | G12: ='[2]Classification prog-économique'!$P$9 -> 0 | I12: =G12+H12 -> 0 | J12: =F12+I12 -> 667676.78 | K12: ='[3]Classification programmatique'!$D$9*1000 -> 635275.58 | L12: ='[3]Classification programmatique'!$G$9*1000 -> 165358.8 | M12: 0 | N12: =K12+L12+M12 -> 800634.38 | O12: 0 | P12: 0 | Q12: 0 | R12: =O12+P12+Q12 -> 0 | S12: =N12+R12 -> 800634.38 | T12: ='[4]Classification programmatique'!$D$9*1000 -> 526821.12 | U12: ='[4]Classification programmatique'!$G$9*1000 -> 173663.92 | V12: 0 | W12: =SUM(T12:V12) -> 700485.04 | X12: 0 | Y12: 0 | Z12: 0 | AA12: =X12+Y12+Z12 -> 0 | AB12: =W12+AA12 -> 700485.04 | AC12: 985306 | AD12: 225525 | AE12: 0 | AF12: =SUM(AC12:AE12) -> 1210831 | AG12: 0 | AH12: 0 | AI12: 0 | AJ12: =AG12+AH12+AI12 -> 0 | AK12: =AF12+AJ12 -> 1210831 | AL12: ='[5]TMC Prog-Eco'!$C$10 -> 1263724.3 | AM12: ='[5]TMC Prog-Eco'!$D$10 -> 225525 | AN12: 0 | AO12: =SUM(AL12:AN12) -> 1489249.3 | AP12: 0 | AQ12: 0 | AR12: 0 | AS12: =AP12+AQ12+AR12 -> 0 | AT12: =AO12+AS12 -> 1489249.3 | AU12: 1328528 | AV12: 225525 | AW12: 0 | AX12: =AU12+AV12+AW12 -> 1554053 | AY12: 0 | AZ12: 0 | BA12: 0 | BB12: =AY12+AZ12+BA12 -> 0 | BC12: =AX12+BB12 -> 1554053 | BD12: 1396980 | BE12: 225525 | BF12: 0 | BG12: =BD12+BE12+BF12 -> 1622505 | BH12: 0 | BI12: 0 | BJ12: 0 | BK12: =BH12+BI12+BJ12 -> 0 | BL12: =BG12+BK12 -> 1622505
A13: 020 | B13: Services judiciaires | C13: ='[2]Classification prog-économique'!$D$10*1000 -> 3754471.8 | D13: ='[2]Classification prog-économique'!$G$10*1000 -> 77725.826 | E13: ='[2]Classification prog-économique'!$J$10*1000 -> 2236295.5 | F13: =C13+D13+E13 -> 6068493.2 | G13: ='[2]Classification prog-économique'!$P$10*1000 -> 4128615 | H13: ='[2]Classification prog-économique'!$S$10*1000 -> 0 | I13: =G13+H13 -> 4128615 | J13: =F13+I13 -> 10197108 | K13: ='[3]Classification programmatique'!$D$10*1000 -> 6463230.3 | L13: ='[3]Classification programmatique'!$G$10*1000 -> 73490 | M13: ='[3]Classification programmatique'!$J$10*1000 -> 2251333 | N13: =K13+L13+M13 -> 8788053.3 | O13: ='[3]Classification programmatique'!$P$10*1000 -> 3400000 | P13: 0 | Q13: 0 | R13: =O13+P13+Q13 -> 3400000 | S13: =N13+R13 -> 12188053 | T13: ='[4]Classification programmatique'!$D$10*1000 -> 7451939.4 | U13: ='[4]Classification programmatique'!$G$10*1000 -> 55731.88 | V13: ='[4]Classification programmatique'!$J$10*1000 -> 3167841 | W13: =SUM(T13:V13) -> 10675512 | X13: ='[4]Classification programmatique'!$P$10*1000 -> 10655000 | Y13: 0 | Z13: 0 | AA13: =X13+Y13+Z13 -> 10655000 | AB13: =W13+AA13 -> 21330512 | AC13: 8512436 | AD13: 718505 | AE13: 4471565 | AF13: =SUM(AC13:AE13) -> 13702506 | AG13: 9520000 | AH13: 0 | AI13: 0 | AJ13: =AG13+AH13+AI13 -> 9520000 | AK13: =AF13+AJ13 -> 23222506 | AL13: ='[5]TMC Prog-Eco'!$C$11 -> 10211915 | AM13: ='[5]TMC Prog-Eco'!$D$11 -> 399455.86 | AN13: ='[5]TMC Prog-Eco'!$E$11 -> 5178222 | AO13: =SUM(AL13:AN13) -> 15789593 | AP13: ='[5]TMC Prog-Eco'!$H$11 -> 11827098 | AQ13: 0 | AR13: 0 | AS13: =AP13+AQ13+AR13 -> 11827098 | AT13: =AO13+AS13 -> 27616691 | AU13: 10630989 | AV13: 399456 | AW13: 5178222 | AX13: =AU13+AV13+AW13 -> 16208667 | AY13: 11240647 | AZ13: 0 | BA13: 0 | BB13: =AY13+AZ13+BA13 -> 11240647 | BC13: =AX13+BB13 -> 27449314 | BD13: 11073653 | BE13: 399456 | BF13: 5178222 | BG13: =BD13+BE13+BF13 -> 16651331 | BH13: 14600000 | BI13: 0 | BJ13: 0 | BK13: =BH13+BI13+BJ13 -> 14600000 | BL13: =BG13+BK13 -> 31251331
A14: 095 | B14: Système pénitentiaire | C14: ='[2]Classification prog-économique'!$D$12*1000 -> 47427.051 | D14: ='[2]Classification prog-économique'!$G$12*1000 -> 0 | E14: ='[2]Classification prog-économique'!$J$12*1000 -> 8352573.7 | F14: =C14+D14+E14 -> 8400000.8 | G14: ='[2]Classification prog-économique'!$P$12*1000 -> 753952 | I14: =G14+H14 -> 753952 | J14: =F14+I14 -> 9153952.8 | K14: 0 | L14: 0 | M14: ='[3]Classification programmatique'!$J$12*1000 -> 8626917.1 | N14: =K14+L14+M14 -> 8626917.1 | O14: ='[3]Classification programmatique'!$P$12*1000 -> 1000000 | P14: 0 | Q14: 0 | R14: =O14+P14+Q14 -> 1000000 | S14: =N14+R14 -> 9626917.1 | T14: 0 | U14: 0 | V14: ='[4]Classification programmatique'!$J$12*1000 -> 7000000 | W14: =SUM(T14:V14) -> 7000000 | X14: ='[4]Classification programmatique'!$P$12*1000 -> 1000000 | Y14: 0 | Z14: 0 | AA14: =X14+Y14+Z14 -> 1000000 | AB14: =W14+AA14 -> 8000000 | AC14: 0 | AD14: 0 | AE14: 7000000 | AF14: =SUM(AC14:AE14) -> 7000000 | AG14: 1000000 | AH14: 0 | AI14: 0 | AJ14: =AG14+AH14+AI14 -> 1000000 | AK14: =AF14+AJ14 -> 8000000 | AL14: ='[5]TMC Prog-Eco'!$C$13 -> 0 | AM14: 0 | AN14: ='[5]TMC Prog-Eco'!$E$13 -> 7000000 | AO14: =SUM(AL14:AN14) -> 7000000 | AP14: ='[5]TMC Prog-Eco'!$H$13 -> 1000000 | AQ14: 0 | AR14: 0 | AS14: =AP14+AQ14+AR14 -> 1000000 | AT14: =AO14+AS14 -> 8000000 | AU14: 0 | AV14: 0 | AW14: 7000000 | AX14: =AU14+AV14+AW14 -> 7000000 | AY14: 1000000 | AZ14: 0 | BA14: 0 | BB14: =AY14+AZ14+BA14 -> 1000000 | BC14: =AX14+BB14 -> 8000000 | BD14: 0 | BE14: 0 | BF14: 7000000 | BG14: =BD14+BE14+BF14 -> 7000000 | BH14: 0 | BI14: 0 | BJ14: 0 | BK14: =BH14+BI14+BJ14 -> 0 | BL14: =BG14+BK14 -> 7000000
A15: 021 | B15: Droits Humains | C15: ='[2]Classification prog-économique'!$D$11*1000 -> 66620.153 | D15: ='[2]Classification prog-économique'!$G$11*1000 -> 37916.915 | E15: ='[2]Classification prog-économique'!$J$11*1000 -> 161140 | F15: =C15+D15+E15 -> 265677.07 | G15: ='[2]Classification prog-économique'!$P$11*1000 -> 85000 | I15: =G15+H15 -> 85000 | J15: =F15+I15 -> 350677.07 | K15: ='[3]Classification programmatique'!$D$11*1000 -> 343593.4 | L15: ='[3]Classification programmatique'!$G$11*1000 -> 32500 | M15: ='[3]Classification programmatique'!$J$11*1000 -> 211140 | N15: =K15+L15+M15 -> 587233.4 | O15: 0 | P15: 0 | Q15: 0 | R15: =O15+P15+Q15 -> 0 | S15: =N15+R15 -> 587233.4 | T15: ='[4]Classification programmatique'!$D$11*1000 -> 302308.64 | U15: ='[4]Classification programmatique'!$G$11*1000 -> 43948.177 | V15: ='[4]Classification programmatique'!$J$11*1000 -> 211140 | W15: =SUM(T15:V15) -> 557396.82 | X15: 0 | Y15: 0 | Z15: 0 | AA15: =X15+Y15+Z15 -> 0 | AB15: =W15+AA15 -> 557396.82 | AC15: 226041 | AD15: 130000 | AE15: 241140 | AF15: =SUM(AC15:AE15) -> 597181 | AG15: 0 | AH15: 0 | AI15: 0 | AJ15: =AG15+AH15+AI15 -> 0 | AK15: =AF15+AJ15 -> 597181 | AL15: ='[5]TMC Prog-Eco'!$C$12 -> 201451.92 | AM15: ='[5]TMC Prog-Eco'!$D$12 -> 130000 | AN15: ='[5]TMC Prog-Eco'!$E$12 -> 241140 | AO15: =SUM(AL15:AN15) -> 572591.92 | AP15: 0 | AQ15: 0 | AR15: 0 | AS15: =AP15+AQ15+AR15 -> 0 | AT15: =AO15+AS15 -> 572591.92 | AU15: 211349 | AV15: 130000 | AW15: 241140 | AX15: =AU15+AV15+AW15 -> 582489 | AY15: 0 | AZ15: 0 | BA15: 0 | BB15: =AY15+AZ15+BA15 -> 0 | BC15: =AX15+BB15 -> 582489 | BD15: 221803 | BE15: 130000 | BF15: 241140 | BG15: =BD15+BE15+BF15 -> 592943 | BH15: 0 | BI15: 0 | BJ15: 0 | BK15: =BH15+BI15+BJ15 -> 0 | BL15: =BG15+BK15 -> 592943
A16: MINISTERE DES AFFAIRES ETRANGERES | C16: =C17+C18+C19 -> 5874319.2 | D16: =D17+D18+D19 -> 4803526.4 | E16: =E17+E18+E19 -> 50000 | F16: =C16+D16+E16 -> 10727846 | G16: =G17+G18+G19 -> 671345.42 | H16: =H17+H18+H19 -> 0 | I16: =G16+H16 -> 671345.42 | J16: =F16+I16 -> 11399191 | K16: =K17+K18+K19 -> 6431834.9 | L16: =L17+L18+L19 -> 4793264.4 | M16: =M17+M18+M19 -> 429750 | N16: =K16+L16+M16 -> 11654849 | O16: =O17+O18+O19 -> 296885 | P16: =P17+P18+P19 -> 0 | Q16: =Q17+Q18+Q19 -> 0 | R16: =O16+P16+Q16 -> 296885 | S16: =S17+S18+S19 -> 11951734 | T16: =T17+T18+T19 -> 7036802.4 | U16: =U17+U18+U19 -> 4983875 | V16: =V17+V18+V19 -> 186468.67 | W16: =T16+U16+V16 -> 12207146 | X16: =X17+X18+X19 -> 803207.52 | Y16: =Y17+Y18+Y19 -> 0 | Z16: =Z17+Z18+Z19 -> 0 | AA16: =X16+Y16+Z16 -> 803207.52 | AB16: =W16+AA16 -> 13010354 | AC16: =AC17+AC18+AC19 -> 11104021 | AD16: =AD17+AD18+AD19 -> 6073701 | AE16: =AE17+AE18+AE19 -> 100000 | AF16: =AC16+AD16+AE16 -> 17277722 | AG16: =AG17+AG18+AG19 -> 1900000 | AH16: =AH17+AH18+AH19 -> 0 | AI16: =AI17+AI18+AI19 -> 0 | AJ16: =AG16+AH16+AI16 -> 1900000 | AK16: =AF16+AJ16 -> 19177722 | AL16: =AL17+AL18+AL19 -> 9436034.9 | AM16: =AM17+AM18+AM19 -> 6573701 | AN16: =AN17+AN18+AN19 -> 100000 | AO16: =AL16+AM16+AN16 -> 16109736 | AP16: =AP17+AP18+AP19 -> 2150000 | AQ16: =AQ17+AQ18+AQ19 -> 0 | AR16: =AR17+AR18+AR19 -> 0 | AS16: =AP16+AQ16+AR16 -> 2150000 | AT16: =AO16+AS16 -> 18259736 | AU16: =AU17+AU18+AU19 -> 9860951 | AV16: =AV17+AV18+AV19 -> 6573700 | AW16: =AW17+AW18+AW19 -> 100000 | AX16: =AU16+AV16+AW16 -> 16534651 | AY16: =AY17+AY18+AY19 -> 2500000 | AZ16: =AZ17+AZ18+AZ19 -> 0 | BA16: =BA17+BA18+BA19 -> 0 | BB16: =AY16+AZ16+BA16 -> 2500000 | BC16: =AX16+BB16 -> 19034651 | BD16: =BD17+BD18+BD19 -> 10301980 | BE16: =BE17+BE18+BE19 -> 6573701 | BF16: =BF17+BF18+BF19 -> 100000 | BG16: =BD16+BE16+BF16 -> 16975681 | BH16: =BH17+BH18+BH19 -> 2500000 | BI16: =BI17+BI18+BI19 -> 0 | BJ16: =BJ17+BJ18+BJ19 -> 0 | BK16: =BH16+BI16+BJ16 -> 2500000 | BL16: =BG16+BK16 -> 19475681
A17: 022 | B17: Pilotage et soutiens aux services du MAE | C17: ='[2]Classification prog-économique'!$D$14*1000 -> 866834.37 | D17: ='[2]Classification prog-économique'!$G$14*1000 -> 1789514.7 | E17: ='[2]Classification prog-économique'!$J$14*1000 -> 0 | F17: =C17+D17+E17 -> 2656349.1 | G17: ='[2]Classification prog-économique'!$P$14*1000 -> 375975.83 | H17: ='[2]Classification prog-économique'!$S$14*1000 -> 0 | I17: =G17+H17 -> 375975.83 | J17: =F17+I17 -> 3032324.9 | K17: ='[3]Classification programmatique'!$D$14*1000 -> 1187308.6 | L17: ='[3]Classification programmatique'!$G$14*1000 -> 1812352.7 | M17: ='[3]Classification programmatique'!$J$14*1000 -> 276000 | N17: =K17+L17+M17 -> 3275661.3 | O17: ='[3]Classification programmatique'!$P$14*1000 -> 85392.502 | P17: 0 | Q17: 0 | R17: =O17+P17+Q17 -> 85392.502 | S17: =N17+R17 -> 3361053.8 | T17: ='[4]Classification programmatique'!$D$14*1000 -> 1668565.9 | U17: ='[4]Classification programmatique'!$G$14*1000 -> 2077518.2 | V17: 0 | W17: =SUM(T17:V17) -> 3746084.1 | X17: ='[4]Classification programmatique'!$P$14*1000 -> 603207.52 | Y17: 0 | Z17: 0 | AA17: =SUM(X17:Z17) -> 603207.52 | AB17: =W17+AA17 -> 4349291.6 | AC17: 1314463 | AD17: 2477486 | AE17: 0 | AF17: =SUM(AC17:AE17) -> 3791949 | AG17: 1300000 | AH17: 0 | AI17: 0 | AJ17: =SUM(AG17:AI17) -> 1300000 | AK17: =AF17+AJ17 -> 5091949 | AL17: ='[5]TMC Prog-Eco'!$C$15 -> 844221.37 | AM17: ='[5]TMC Prog-Eco'!$D$15 -> 2400986 | AN17: 0 | AO17: =SUM(AL17:AN17) -> 3245207.4 | AP17: ='[5]TMC Prog-Eco'!$H$15 -> 1550000 | AQ17: 0 | AR17: 0 | AS17: =SUM(AP17:AR17) -> 1550000 | AT17: =AO17+AS17 -> 4795207.4 | AU17: 844221 | AV17: 2400985 | AW17: 0 | AX17: =AU17+AV17+AW17 -> 3245206 | AY17: 1800000 | AZ17: 0 | BA17: 0 | BB17: =AY17+AZ17+BA17 -> 1800000 | BC17: =AX17+BB17 -> 5045206 | BD17: 844220 | BE17: 2400986 | BF17: 0 | BG17: =BD17+BE17+BF17 -> 3245206 | BH17: 1800000 | BI17: 0 | BJ17: 0 | BK17: =BH17+BI17+BJ17 -> 1800000 | BL17: =BG17+BK17 -> 5045206
A18: 023 | B18: Diplomatie et relations extérieures | C18: ='[2]Classification prog-économique'!$D$15*1000 -> 212229.58 | D18: ='[2]Classification prog-économique'!$G$15*1000 -> 312510.77 | E18: ='[2]Classification prog-économique'!$J$15*1000 -> 50000 | F18: =C18+D18+E18 -> 574740.35 | G18: ='[2]Classification prog-économique'!$P$15*1000 -> 0 | H18: ='[2]Classification prog-économique'!$S$14*1000 -> 0 | I18: =G18+H18 -> 0 | J18: =F18+I18 -> 574740.35 | K18: ='[3]Classification programmatique'!$D$15*1000 -> 1043208.2 | L18: ='[3]Classification programmatique'!$G$15*1000 -> 287631.73 | M18: ='[3]Classification programmatique'!$J$15*1000 -> 132500 | N18: =K18+L18+M18 -> 1463339.9 | O18: 0 | P18: 0 | Q18: 0 | R18: =O18+P18+Q18 -> 0 | S18: =N18+R18 -> 1463339.9 | T18: ='[4]Classification programmatique'!$D$15*1000 -> 946673.04 | U18: ='[4]Classification programmatique'!$G$15*1000 -> 404393.44 | V18: ='[4]Classification programmatique'!$I$15*1000 -> 100000 | W18: =SUM(T18:V18) -> 1451066.5 | X18: 0 | Y18: 0 | Z18: 0 | AA18: =SUM(X18:Z18) -> 0 | AB18: =W18+AA18 -> 1451066.5 | AC18: 1098265 | AD18: 606800 | AE18: 100000 | AF18: =SUM(AC18:AE18) -> 1805065 | AH18: 0 | AI18: 0 | AJ18: =SUM(AG18:AI18) -> 0 | AK18: =AF18+AJ18 -> 1805065 | AL18: ='[5]TMC Prog-Eco'!$C$16 -> 1098264.9 | AM18: ='[5]TMC Prog-Eco'!$D$16 -> 606800 | AN18: 100000 | AO18: =SUM(AL18:AN18) -> 1805064.9 | AP18: 0 | AQ18: 0 | AR18: 0 | AS18: =SUM(AP18:AR18) -> 0 | AT18: =AO18+AS18 -> 1805064.9 | AU18: 1098265 | AV18: 606800 | AW18: 100000 | AX18: =AU18+AV18+AW18 -> 1805065 | AY18: 0 | AZ18: 0 | BA18: 0 | BB18: =AY18+AZ18+BA18 -> 0 | BC18: =AX18+BB18 -> 1805065 | BD18: 1098265 | BE18: 606800 | BF18: 100000 | BG18: =BD18+BE18+BF18 -> 1805065 | BH18: 0 | BI18: 0 | BJ18: 0 | BK18: =BH18+BI18+BJ18 -> 0 | BL18: =BG18+BK18 -> 1805065
A19: 103 | B19: Attractivité et rayonnement du Bénin à l'extérieur | C19: ='[2]Classification prog-économique'!$D$16*1000 -> 4795255.2 | D19: ='[2]Classification prog-économique'!$G$16*1000 -> 2701500.9 | E19: ='[2]Classification prog-économique'!$J$16*1000 -> 0 | F19: =C19+D19+E19 -> 7496756.1 | G19: ='[2]Classification prog-économique'!$P$16*1000 -> 295369.59 | H19: ='[2]Classification prog-économique'!$S$16*1000 -> 0 | I19: =G19+H19 -> 295369.59 | J19: =F19+I19 -> 7792125.7 | K19: ='[3]Classification programmatique'!$D$16*1000 -> 4201318.1 | L19: ='[3]Classification programmatique'!$G$16*1000 -> 2693279.9 | M19: ='[3]Classification programmatique'!$J$16*1000 -> 21250 | N19: =K19+L19+M19 -> 6915848 | O19: ='[3]Classification programmatique'!$P$16*1000 -> 211492.5 | P19: 0 | Q19: 0 | R19: =O19+P19+Q19 -> 211492.5 | S19: =N19+R19 -> 7127340.5 | T19: ='[4]Classification programmatique'!$D$16*1000 -> 4421563.5 | U19: ='[4]Classification programmatique'!$G$16*1000 -> 2501963.4 | V19: ='[6]Classification programmatique'!$J$16*1000 -> 86468.672 | W19: =SUM(T19:V19) -> 7009995.6 | X19: ='[4]Classification programmatique'!$P$16*1000 -> 200000 | Y19: 0 | Z19: 0 | AA19: =SUM(X19:Z19) -> 200000 | AB19: =W19+AA19 -> 7209995.6 | AC19: 8691293 | AD19: 2989415 | AE19: 0 | AF19: =SUM(AC19:AE19) -> 11680708 | AG19: 600000 | AH19: 0 | AI19: 0 | AJ19: =SUM(AG19:AI19) -> 600000 | AK19: =AF19+AJ19 -> 12280708 | AL19: ='[5]TMC Prog-Eco'!$C$17 -> 7493548.6 | AM19: ='[5]TMC Prog-Eco'!$D$17 -> 3565915 | AN19: 0 | AO19: =SUM(AL19:AN19) -> 11059464 | AP19: ='[5]TMC Prog-Eco'!$H$17 -> 600000 | AQ19: 0 | AR19: 0 | AS19: =SUM(AP19:AR19) -> 600000 | AT19: =AO19+AS19 -> 11659464 | AU19: 7918465 | AV19: 3565915 | AW19: 0 | AX19: =AU19+AV19+AW19 -> 11484380 | AY19: 700000 | AZ19: 0 | BA19: 0 | BB19: =AY19+AZ19+BA19 -> 700000 | BC19: =AX19+BB19 -> 12184380 | BD19: 8359495 | BE19: 3565915 | BF19: 0 | BG19: =BD19+BE19+BF19 -> 11925410 | BH19: 700000 | BI19: 0 | BJ19: 0 | BK19: =BH19+BI19+BJ19 -> 700000 | BL19: =BG19+BK19 -> 12625410
A20: MINISTERE DE L'ECONOMIE ET DES FINANCES | C20: =C21+C22+C23+C24+C25+C26+C27+C28 -> 12620788 | D20: =D21+D22+D23+D24+D25+D26+D27+D28 -> 5483018.3 | E20: =E21+E22+E23+E24+E25+E26+E27+E28 -> 94625742 | F20: =C20+D20+E20 -> 1.1272955e+08 | G20: =G21+G22+G23+G24 -> 1145464.2 | H20: =H21+H22+H23+H24+H25+H26+H27+H28+H29 -> 0 | I20: =G20+H20 -> 1145464.2 | J20: =F20+I20 -> 1.1387501e+08 | K20: =K21+K22+K23+K24+K25+K26+K27+K28 -> 21406072 | L20: =L21+L22+L23+L24+L25+L26+L27+L28 -> 5249382.6 | M20: =M21+M22+M23+M24+M25+M26+M27+M28 -> 1.027657e+08 | N20: =K20+L20+M20 -> 1.2942116e+08 | O20: =O21+O22+O23+O24+O25+O26+O27+O28 -> 2408049.5 | P20: =P21+P22+P23+P24+P25+P26+P27+P28 -> 0 | Q20: =Q21+Q22+Q23+Q24+Q25+Q26+Q27+Q28 -> 0 | R20: =O20+P20+Q20 -> 2408049.5 | S20: =S21+S22+S23+S24+S25+S26+S27+S28 -> 1.3182921e+08 | T20: =T21+T22+T23+T24+T25+T26+T27+T28 -> 19737787 | U20: =U21+U22+U23+U24+U25+U26+U27+U28 -> 7374756 | V20: =V21+V22+V23+V24+V25+V26+V28+V27 -> 104266374 | W20: =W21+W22+W23+W24+W25+W26+W27+W28 -> 1.3137892e+08 | X20: =X21+X22+X23+X24+X25+X26+X27+X28 -> 2667399.1 | Y20: =Y21+Y22+Y23+Y24+Y25+Y26+Y27+Y28 -> 90979.258 | Z20: =Z21+Z22+Z23+Z24+Z25+Z26+Z27+Z28 -> 23028120 | AA20: =AA21+AA22+AA23+AA24+AA25+AA26+AA27+AA28 -> 25786498 | AB20: =AB21+AB22+AB23+AB24+AB25+AB26+AB27+AB28 -> 1.5716542e+08 | AC20: =AC21+AC22+AC23+AC24+AC25+AC26+AC27+AC28 -> 23094613 | AD20: =AD21+AD22+AD23+AD24+AD25+AD26+AD27+AD28 -> 15625673 | ... AK20: =AK21+AK22+AK23+AK24+AK25+AK26+AK27+AK28 -> 1.6798729e+08 | AL20: =AL21+AL22+AL23+AL24+AL25+AL26 -> 23049601 | AM20: =AM21+AM22+AM23+AM24+AM25+AM26+AM27+AM28 -> 10779673 | AN20: =AN21+AN22+AN23+AN24+AN25+AN26+AN27+AN28 -> 135989974 | AO20: =AO21+AO22+AO23+AO24+AO25+AO26+AO27+AO28 -> 1.6981925e+08 | AP20: =AP21+AP22+AP23+AP24+AP25+AP26+AP27+AP28 -> 15488014 | AQ20: =AQ21+AQ22+AQ23+AQ24+AQ25+AQ26+AQ27+AQ28 -> 0 | AR20: =AR21+AR22+AR23+AR24+AR25+AR26+AR27+AR28 -> 0 | AS20: =AS21+AS22+AS23+AS24+AS25+AS26+AS27+AS28 -> 15488014 | AT20: =AO20+AS20 -> 1.8530726e+08 | AU20: =AU21+AU22+AU23+AU24+AU25+AU26+AU27+AU28 -> 23932246 | AV20: =AV21+AV22+AV23+AV24+AV25+AV26+AV27+AV28 -> 10779673 | AW20: =AW21+AW22+AW23+AW24+AW25+AW26+AW27+AW28 -> 136189974 | AX20: =AU20+AV20+AW20 -> 170901893 | AY20: =AY21+AY22+AY23+AY24+AY25+AY26+AY27+AY28 -> 10690193 | AZ20: =AZ21+AZ22+AZ23+AZ24+AZ25+AZ26+AZ27+AZ28 -> 0 | BA20: =BA21+BA22+BA23+BA24+BA25+BA26+BA27+BA28 -> 0 | BB20: =AY20+AZ20+BA20 -> 10690193 | BC20: =AX20+BB20 -> 181592086 | BD20: =BD21+BD22+BD23+BD24+BD25+BD26+BD27+BD28 -> 24927231 | BE20: =BE21+BE22+BE23+BE24+BE25+BE26+BE27+BE28 -> 10779673 | BF20: =BF21+BF22+BF23+BF24+BF25+BF26+BF27+BF28 -> 137489974 | BG20: =BD20+BE20+BF20 -> 173196878 | BH20: =BH21+BH22+BH23+BH24+BH25+BH26+BH27+BH28 -> 10636892 | BI20: =BI21+BI22+BI23+BI24+BI25+BI26+BI27+BI28 -> 0 | BJ20: =BJ21+BJ22+BJ23+BJ24+BJ25+BJ26+BJ27+BJ28 -> 0 | BK20: =BH20+BI20+BJ20 -> 10636892 | BL20: =BG20+BK20 -> 183833770
A21: 026 | B21: Pilotage et soutien aux services du MEF | C21: ='[2]Classification prog-économique'!$D$18*1000 -> 1005419 | D21: ='[2]Classification prog-économique'!$G$18*1000 -> 2825709.9 | E21: ='[2]Classification prog-économique'!$J$18*1000 -> 0 | F21: =C21+D21+E21 -> 3831129 | G21: ='[2]Classification prog-économique'!$P$18*1000 -> 946583.99 | H21: ='[2]Classification prog-économique'!$S$18*1000 -> 0 | I21: =G21+H21 -> 946583.99 | J21: =F21+I21 -> 4777713 | K21: ='[3]Classification programmatique'!$D$18*1000 -> 1537729.2 | L21: ='[3]Classification programmatique'!$G$18*1000 -> 2674701.4 | M21: ='[7]Classification programmatique'!$J$18*1000 -> 0 | N21: =K21+L21+M21 -> 4212430.6 | O21: 703334.21 | R21: =O21+P21+Q21 -> 703334.21 | S21: =N21+R21 -> 4915764.8 | T21: ='[4]Classification programmatique'!$D$18*1000 -> 2625942.1 | U21: ='[4]Classification programmatique'!$G$18*1000 -> 3570829.7 | V21: 0 | W21: =SUM(T21:V21) -> 6196771.8 | X21: ='[4]Classification programmatique'!$P$18*1000 -> 2154300 | AA21: =X21+Y21+Z21 -> 2154300 | AB21: =W21+AA21 -> 8351071.8 | AC21: 1933311 | AD21: 4196101 | AE21: 0 | AF21: =SUM(AC21:AE21) -> 6129412 | AG21: 1500000 | AI21: 3000000 | AJ21: =AG21+AH21+AI21 -> 4500000 | AK21: =AF21+AJ21 -> 10629412 | AL21: 1768024 | AM21: ='[5]TMC Prog-Eco'!$D$19 -> 4196101 | AN21: 0 | AO21: =SUM(AL21:AN21) -> 5964125 | AP21: ='[5]TMC Prog-Eco'!$H$19 -> 1500000 | AQ21: 0 | AR21: 0 | AS21: =AP21+AQ21+AR21 -> 1500000 | AT21: =AO21+AS21 -> 7464125 | AU21: 1824676 | AV21: 4196101 | AW21: 0 | AX21: =AU21+AV21+AW21 -> 6020777 | AY21: 1500000 | AZ21: 0 | BA21: 0 | BB21: =AY21+AZ21+BA21 -> 1500000 | BC21: =AX21+BB21 -> 7520777 | BD21: 1888539 | BE21: 4196101 | BF21: 0 | BG21: =BD21+BE21+BF21 -> 6084640 | BH21: 2354810 | BI21: 0 | BJ21: 0 | BK21: =BH21+BI21+BJ21 -> 2354810 | BL21: =BG21+BK21 -> 8439450
A22: 027 | B22: Gestion du cadre macroéconomique et du secteur financier | C22: ='[2]Classification prog-économique'!$D$19*1000 -> 282779.64 | D22: ='[2]Classification prog-économique'!$G$19*1000 -> 316909.52 | E22: ='[2]Classification prog-économique'!$J$19*1000 -> 2865000 | F22: =C22+D22+E22 -> 3464689.2 | G22: ='[2]Classification prog-économique'!$P$19*1000 -> 54436.055 | H22: ='[2]Classification prog-économique'!$S$18*1000 -> 0 | I22: =G22+H22 -> 54436.055 | J22: =F22+I22 -> 3519125.2 | K22: ='[3]Classification programmatique'!$D$19*1000 -> 509560.14 | L22: ='[3]Classification programmatique'!$G$19*1000 -> 379907.27 | M22: ='[3]Classification programmatique'!$J$19*1000 -> 3550000 | N22: =K22+L22+M22 -> 4439467.4 | O22: ='[3]Classification programmatique'!$P$19*1000 -> 1004715.3 | P22: 0 | R22: =O22+P22+Q22 -> 1004715.3 | S22: =N22+R22 -> 5444182.7 | T22: ='[4]Classification programmatique'!$D$19*1000 -> 1188397.8 | U22: ='[4]Classification programmatique'!$G$19*1000 -> 414838.06 | V22: ='[4]Classification programmatique'!$J$19*1000 -> 3550000 | W22: =SUM(T22:V22) -> 5153235.9 | X22: ='[4]Classification programmatique'!$P$19*1000 -> 513099.07 | Y22: ='[6]Classification programmatique'!$S$19*1000 -> 90979.258 | Z22: ='[6]Classification programmatique'!$V$19*1000 -> 23028120 | AA22: =X22+Y22+Z22 -> 23632198 | AB22: =W22+AA22 -> 28785434 | AC22: 948850 | AD22: 773570.99 | AE22: 11074974 | AF22: =SUM(AC22:AE22) -> 12797395 | AG22: 4100000 | AH22: 0 | AJ22: =AG22+AH22+AI22 -> 4100000 | AK22: =AF22+AJ22 -> 16897395 | AL22: 958713 | AM22: ='[5]TMC Prog-Eco'!$D$20 -> 773570.99 | AN22: ='[5]TMC Prog-Eco'!$E$20 -> 11074974 | AO22: =SUM(AL22:AN22) -> 12807258 | AP22: ='[5]TMC Prog-Eco'!$H$20 -> 12988014 | AQ22: 0 | AS22: =AP22+AQ22+AR22 -> 12988014 | AT22: =AO22+AS22 -> 25795272 | AU22: 998966 | AV22: 773571 | AW22: 11074974 | AX22: =AU22+AV22+AW22 -> 12847511 | AY22: 8190193 | AZ22: 0 | BA22: 0 | BB22: =AY22+AZ22+BA22 -> 8190193 | BC22: =AX22+BB22 -> 21037704 | BD22: 1044343 | BE22: 773571 | BF22: 11074974 | BG22: =BD22+BE22+BF22 -> 12892888 | BH22: 4600000 | BI22: 0 | BJ22: 0 | BK22: =BH22+BI22+BJ22 -> 4600000 | BL22: =BG22+BK22 -> 17492888
A23: 028 | B23: Mobilisation des ressources financières et gestion de la trésorerie de l'Etat | C23: ='[2]Classification prog-économique'!$D$20*1000 -> 9536380.1 | D23: ='[2]Classification prog-économique'!$G$20*1000 -> 1286227.8 | E23: ='[2]Classification prog-économique'!$J$20*1000 -> 415000 | F23: =C23+D23+E23 -> 11237608 | G23: ='[2]Classification prog-économique'!$P$20*1000 -> 63853.376 | H23: ='[2]Classification prog-économique'!$S$18*1000 -> 0 | I23: =G23+H23 -> 63853.376 | J23: =F23+I23 -> 11301461 | K23: ='[3]Classification programmatique'!$D$20*1000 -> 15971592 | L23: ='[3]Classification programmatique'!$G$20*1000 -> 1189550 | M23: ='[3]Classification programmatique'!$J$20*1000 -> 411250 | N23: =K23+L23+M23 -> 17572392 | O23: 0 | P23: 0 | Q23: 0 | R23: =O23+P23+Q23 -> 0 | S23: =N23+R23 -> 17572392 | T23: ='[4]Classification programmatique'!$D$20*1000 -> 12026858 | U23: ='[4]Classification programmatique'!$G$20*1000 -> 1645906 | V23: ='[4]Classification programmatique'!$J$20 -> 0 | W23: =SUM(T23:V23) -> 13672764 | X23: 0 | Y23: 0 | Z23: 0 | AA23: =X23+Y23+Z23 -> 0 | AB23: =W23+AA23 -> 13672764 | AC23: 15105434 | AD23: 2986000 | AE23: 1315000 | AF23: =SUM(AC23:AE23) -> 19406434 | AG23: 100000 | AH23: 577027 | AI23: 0 | AJ23: =AG23+AH23+AI23 -> 677027 | AK23: =AF23+AJ23 -> 20083461 | AL23: 15633938 | AM23: ='[5]TMC Prog-Eco'!$D$21 -> 2986000 | AN23: ='[5]TMC Prog-Eco'!$E$21 -> 1315000 | AO23: =SUM(AL23:AN23) -> 19934938 | AP23: ='[5]TMC Prog-Eco'!$H$21 -> 0 | AQ23: 0 | AR23: 0 | AS23: =AP23+AQ23+AR23 -> 0 | AT23: =AO23+AS23 -> 19934938 | AU23: 16252678 | AV23: 2986000 | AW23: 1315000 | AX23: =AU23+AV23+AW23 -> 20553678 | AY23: 0 | AZ23: 0 | BA23: 0 | BB23: =AY23+AZ23+BA23 -> 0 | BC23: =AX23+BB23 -> 20553678 | BD23: 16950169 | BE23: 2986000 | BF23: 1315000 | BG23: =BD23+BE23+BF23 -> 21251169 | BH23: 0 | BI23: 0 | BJ23: 0 | BK23: =BH23+BI23+BJ23 -> 0 | BL23: =BG23+BK23 -> 21251169
A24: 029 | B24: Gestion des dépenses publiques | C24: ='[2]Classification prog-économique'!$D$21*1000 -> 1476712.5 | D24: ='[2]Classification prog-économique'!$G$21*1000 -> 419251.32 | E24: ='[2]Classification prog-économique'!$J$21*1000 -> 0 | F24: =C24+D24+E24 -> 1895963.8 | G24: ='[2]Classification prog-économique'!$P$21*1000 -> 80590.758 | H24: ='[2]Classification prog-économique'!$S$18*1000 -> 0 | I24: =G24+H24 -> 80590.758 | J24: =F24+I24 -> 1976554.6 | K24: ='[3]Classification programmatique'!$D$21*1000 -> 2973623.9 | L24: ='[3]Classification programmatique'!$G$21*1000 -> 438858.24 | M24: ='[3]Classification programmatique'!$J$21*1000 -> 0 | N24: =K24+L24+M24 -> 3412482.2 | O24: ='[3]Classification programmatique'!$J$21*1000 -> 0 | P24: 0 | Q24: 0 | R24: =O24+P24+Q24 -> 0 | S24: =N24+R24 -> 3412482.2 | T24: ='[4]Classification programmatique'!$D$21*1000 -> 3183091 | U24: ='[4]Classification programmatique'!$G$21*1000 -> 576018.68 | V24: 0 | W24: =SUM(T24:V24) -> 3759109.6 | X24: 0 | Y24: 0 | Z24: 0 | AA24: =X24+Y24+Z24 -> 0 | AB24: =W24+AA24 -> 3759109.6 | AC24: 4957018 | AD24: 1820001 | AE24: 0 | AF24: =SUM(AC24:AE24) -> 6777019 | AG24: 2000000 | AH24: 0 | AI24: 0 | AJ24: =AG24+AH24+AI24 -> 2000000 | AK24: =AF24+AJ24 -> 8777019 | AL24: 4538926 | AM24: ='[5]TMC Prog-Eco'!$D$22 -> 1974001 | AN24: 0 | AO24: =SUM(AL24:AN24) -> 6512927 | AP24: ='[5]TMC Prog-Eco'!$H$22 -> 1000000 | AQ24: 0 | AR24: 0 | AS24: =AP24+AQ24+AR24 -> 1000000 | AT24: =AO24+AS24 -> 7512927 | AU24: 4705926 | AV24: 1974001 | AW24: 0 | AX24: =AU24+AV24+AW24 -> 6679927 | AY24: 1000000 | AZ24: 0 | BA24: 0 | BB24: =AY24+AZ24+BA24 -> 1000000 | BC24: =AX24+BB24 -> 7679927 | BD24: 4894180 | BE24: 1974001 | BF24: 0 | BG24: =BD24+BE24+BF24 -> 6868181 | BH24: 3682082 | BI24: 0 | BJ24: 0 | BK24: =BH24+BI24+BJ24 -> 3682082 | BL24: =BG24+BK24 -> 10550263
A25: 030 | B25: Gestion des biens de l'Etat et du foncier | C25: ='[2]Classification prog-économique'!$D$22*1000 -> 214312.15 | D25: ='[2]Classification prog-économique'!$G$22*1000 -> 26567.364 | E25: ='[2]Classification prog-économique'!$J$22*1000 -> 3559686.8 | F25: =C25+D25+E25 -> 3800566.3 | G25: ='[2]Classification prog-économique'!$P$22*1000 -> 0 | H25: ='[2]Classification prog-économique'!$S$18*1000 -> 0 | I25: =G25+H25 -> 0 | J25: =F25+I25 -> 3800566.3 | K25: ='[3]Classification programmatique'!$D$22*1000 -> 305514.8 | L25: ='[3]Classification programmatique'!$G$22*1000 -> 458320.32 | M25: ='[3]Classification programmatique'!$J$22*1000 -> 7634428.3 | N25: =K25+L25+M25 -> 8398263.4 | O25: ='[3]Classification programmatique'!$P$22*1000 -> 700000 | P25: 0 | Q25: 0 | R25: =O25+P25+Q25 -> 700000 | S25: =N25+R25 -> 9098263.4 | T25: ='[4]Classification programmatique'!$D$22*1000 -> 607057.98 | U25: ='[4]Classification programmatique'!$G$22*1000 -> 815406.42 | V25: ='[4]Classification programmatique'!$J$22*1000 -> 7524974 | W25: =SUM(T25:V25) -> 8947438.4 | X25: 0 | Y25: 0 | Z25: 0 | AA25: =X25+Y25+Z25 -> 0 | AB25: =W25+AA25 -> 8947438.4 | AC25: 0 | AD25: 0 | AE25: 0 | AF25: =SUM(AC25:AE25) -> 0 | AG25: 0 | AH25: 0 | AI25: 0 | AJ25: =AG25+AH25+AI25 -> 0 | AK25: =AF25+AJ25 -> 0 | AL25: 0 | AM25: 0 | AN25: 0 | AO25: =SUM(AL25:AN25) -> 0 | AP25: 0 | AQ25: 0 | AR25: 0 | AS25: =AP25+AQ25+AR25 -> 0 | AT25: =AO25+AS25 -> 0 | AU25: 0 | AV25: 0 | AW25: 0 | AX25: =AU25+AV25+AW25 -> 0 | AY25: 0 | AZ25: 0 | BA25: 0 | BB25: =AY25+AZ25+BA25 -> 0 | BC25: =AX25+BB25 -> 0 | BD25: 0 | BE25: 0 | BF25: 0 | BG25: =BD25+BE25+BF25 -> 0 | BH25: 0 | BI25: 0 | BJ25: 0 | BK25: =BH25+BI25+BJ25 -> 0 | BL25: =BG25+BK25 -> 0
A26: 31 | B26: Assurance retraite des Agents de l'Etat | C26: ='[8]Classification prog-économique'!$D$110*1000 -> 105185 | D26: ='[8]Classification prog-économique'!$G$110*1000 -> 171342.31 | E26: ='[8]Classification prog-économique'!$J$110*1000 -> 87215955 | F26: =C26+D26+E26 -> 87492482 | I26: =G26+H26 -> 0 | J26: =F26+I26 -> 87492482 | K26: 108052 | L26: ='[7]Classification programmatique'!$G$108*1000 -> 86045.352 | M26: ='[7]Classification programmatique'!$J$108*1000 -> 87256048 | N26: =K26+L26+M26 -> 87450145 | O26: 0 | P26: 0 | Q26: 0 | R26: =O26+P26+Q26 -> 0 | S26: =N26+R26 -> 87450145 | T26: ='[6]Classification programmatique'!$D$100*1000 -> 106440 | U26: ='[6]Classification programmatique'!$G$100*1000 -> 207757.16 | V26: ='[6]Classification programmatique'!$J$100*1000 -> 89262000 | W26: =SUM(T26:V26) -> 89576197 | X26: 0 | Y26: 0 | Z26: 0 | AA26: =X26+Y26+Z26 -> 0 | AB26: =W26+AA26 -> 89576197 | AC26: ='[9]RECAP 2025'!$O$51 -> 150000 | AD26: ='[9]RECAP 2025'!$P$51 -> 850000 | AE26: ='[9]RECAP 2025'!$Q$52 -> 99600000 | AF26: =SUM(AC26:AE26) -> 100600000 | AG26: 0 | AH26: 0 | AI26: 0 | AJ26: =AG26+AH26+AI26 -> 0 | AK26: =AF26+AJ26 -> 100600000 | AL26: ='[10]TMC Prog-Eco'!$C$101 -> 150000 | AM26: ='[10]TMC Prog-Eco'!$D$101 -> 850000 | AN26: ='[10]TMC Prog-Eco'!$E$101 -> 89600000 | AO26: =SUM(AL26:AN26) -> 90600000 | AP26: 0 | AQ26: 0 | AR26: 0 | AS26: =AP26+AQ26+AR26 -> 0 | AT26: =AO26+AS26 -> 90600000 | AU26: 150000 | AV26: 850000 | AW26: 89800000 | AX26: =AU26+AV26+AW26 -> 90800000 | AY26: 0 | AZ26: 0 | BA26: 0 | BB26: =AY26+AZ26+BA26 -> 0 | BC26: =AX26+BB26 -> 90800000 | BD26: 150000 | BE26: 850000 | BF26: 91100000 | BG26: =BD26+BE26+BF26 -> 92100000 | BH26: 0 | BI26: 0 | BJ26: 0 | BK26: =BH26+BI26+BJ26 -> 0 | BL26: =BG26+BK26 -> 92100000
A27: 107 | B27: Prévention et gestion des catastrophes | D27: ='[8]Classification prog-économique'!$Y$111*1000 -> 437010 | F27: =C27+D27+E27 -> 437010 | I27: =G27+H27 -> 0 | J27: =F27+I27 -> 437010 | K27: 0 | L27: ='[7]Classification programmatique'!$G$109*1000 -> 22000 | M27: 0 | N27: =K27+L27+M27 -> 22000 | O27: 0 | P27: 0 | Q27: 0 | R27: =O27+P27+Q27 -> 0 | S27: 22000 | U27: ='[6]Classification programmatique'!$G$101*1000 -> 144000 | V27: 0 | W27: =SUM(T27:V27) -> 144000 | X27: 0 | Y27: 0 | Z27: 0 | AA27: =X27+Y27+Z27 -> 0 | AB27: =W27+AA27 -> 144000 | AD27: ='[9]RECAP 2025'!$P$58 -> 5000000 | AE27: 0 | AF27: =SUM(AC27:AE27) -> 5000000 | AG27: 0 | AH27: 0 | AI27: 0 | AJ27: =AG27+AH27+AI27 -> 0 | AK27: =AF27+AJ27 -> 5000000 | AL27: 0 | AM27: 0 | AN27: 28000000 | AO27: =SUM(AL27:AN27) -> 28000000 | AP27: 0 | AQ27: 0 | AR27: 0 | AS27: =AP27+AQ27+AR27 -> 0 | AT27: =AO27+AS27 -> 28000000 | AU27: 0 | AV27: 0 | AW27: 28000000 | AX27: =AU27+AV27+AW27 -> 28000000 | AY27: 0 | AZ27: 0 | BA27: 0 | BB27: =AY27+AZ27+BA27 -> 0 | BC27: =AX27+BB27 -> 28000000 | BD27: 0 | BE27: 0 | BF27: 28000000 | BG27: =BD27+BE27+BF27 -> 28000000 | BH27: 0 | BI27: 0 | BJ27: 0 | BK27: =BH27+BI27+BJ27 -> 0 | BL27: =BG27+BK27 -> 28000000
A28: 108 | B28: Modernisation des regies financières | E28: ='[8]Classification prog-économique'!$Y$112*1000 -> 570100 | F28: =C28+D28+E28 -> 570100 | I28: =G28+H28 -> 0 | J28: =F28+I28 -> 570100 | K28: 0 | L28: 0 | M28: ='[7]Classification programmatique'!$J$110*1000 -> 3913978.7 | N28: =K28+L28+M28 -> 3913978.7 | O28: 0 | P28: 0 | Q28: 0 | R28: =O28+P28+Q28 -> 0 | S28: 3913978.7 | U28: 0 | V28: ='[6]Classification programmatique'!$J$102*1000 -> 3929400 | W28: =SUM(T28:V28) -> 3929400 | X28: 0 | Y28: 0 | Z28: 0 | AA28: =X28+Y28+Z28 -> 0 | AB28: =W28+AA28 -> 3929400 | AD28: 0 | AE28: 6000000 | AF28: =SUM(AC28:AE28) -> 6000000 | AG28: 0 | AH28: 0 | AI28: 0 | AJ28: =AG28+AH28+AI28 -> 0 | AK28: =AF28+AJ28 -> 6000000 | AL28: 0 | AM28: 0 | AN28: ='[10]TMC Prog-Eco'!$E$103 -> 6000000 | AO28: =SUM(AL28:AN28) -> 6000000 | AP28: 0 | AQ28: 0 | AR28: 0 | AS28: =AP28+AQ28+AR28 -> 0 | AT28: =AO28+AS28 -> 6000000 | AU28: 0 | AV28: 0 | AW28: 6000000 | AX28: =AU28+AV28+AW28 -> 6000000 | AY28: 0 | AZ28: 0 | BA28: 0 | BB28: =AY28+AZ28+BA28 -> 0 | BC28: =AX28+BB28 -> 6000000 | BD28: 0 | BE28: 0 | BF28: 6000000 | BG28: =BD28+BE28+BF28 -> 6000000 | BH28: 0 | BI28: 0 | BJ28: 0 | BK28: =BH28+BI28+BJ28 -> 0 | BL28: =BG28+BK28 -> 6000000
A29: MINISTERE DE L'INTERIEUR ET DE LA SECURITE PUBLIQUE | C29: =C30+C31+C32+C33+C34 -> 36441900 | D29: =D30+D31+D32+D33+D34 -> 8871300 | E29: =E30+E31+E32+E33+E34 -> 623000 | F29: =C29+D29+E29 -> 45936200 | G29: =G30+G31+G32+G33+G34 -> 1869100 | H29: =H30+H31+H32+H33+H34 -> 0 | I29: =G29+H29 -> 1869100 | J29: =F29+I29 -> 47805300 | K29: =K30+K31+K33+K32+K34 -> 46552727 | L29: =L30+L31+L33+L32+L34 -> 6960962.4 | M29: =M30+M31+M33+M32+M34 -> 484000 | N29: =K29+L29+M29 -> 53997690 | O29: =O30+O31+O33+O32+O34 -> 6776115.7 | P29: =P30+P31+P33+P32+P34 -> 0 | Q29: =Q30+Q31+Q33+Q32+Q34 -> 0 | R29: =O29+P29+Q29 -> 6776115.7 | S29: =S30+S31+S32+S33+S34 -> 60773805 | T29: =T30+T31+T33+T32+T34 -> 53055283 | U29: =U30+U31+U33+U32+U34 -> 6957099.7 | V29: =V30+V31+V33+V32+V34 -> 509000 | W29: =W30+W31+W33+W32+W34 -> 60521383 | X29: =X30+X31+X33+X32+X34 -> 5414674.9 | Y29: =Y30+Y31+Y33+Y32+Y34 -> 0 | Z29: =Z30+Z31+Z33+Z32+Z34 -> 0 | AA29: =AA30+AA31+AA33+AA32+AA34 -> 5414674.9 | ... AS29: =AS30+AS31+AS33+AS32+AS34 -> 20789415 | AT29: =AO29+AS29 -> 90658880 | AU29: =AU30+AU31+AU32+AU33+AU34 -> 63980709 | AV29: =AV30+AV31+AV32+AV33+AV34 -> 8720135 | AW29: =AW30+AW31+AW32+AW33+AW34 -> 1739385 | AX29: =AU29+AV29+AW29 -> 74440229 | AY29: =AY30+AY31+AY32+AY33+AY34 -> 12550000 | AZ29: =AZ30+AZ31+AZ32+AZ33+AZ34 -> 0 | BA29: =BA30+BA31+BA32+BA33+BA34 -> 14319220 | BB29: =AY29+AZ29+BA29 -> 26869220 | BC29: =AX29+BB29 -> 101309449 | BD29: =BD30+BD31+BD32+BD33+BD34 -> 66796808 | BE29: =BE30+BE31+BE32+BE33+BE34 -> 8720135 | BF29: =BF30+BF31+BF32+BF33+BF34 -> 1739385 | BG29: =BD29+BE29+BF29 -> 77256328 | BH29: =BH30+BH31+BH32+BH33+BH34 -> 13750000 | BI29: =BI30+BI31+BI32+BI33+BI34 -> 0 | BJ29: =BJ30+BJ31+BJ32+BJ33+BJ34 -> 10739415 | BK29: =BH29+BI29+BJ29 -> 24489415 | BL29: =BG29+BK29 -> 101745743
A30: 080 | B30: Pilotage et soutien aux services du MISP | C30: ='[2]Classification prog-économique'!$D$24*1000 -> 448700 | D30: ='[2]Classification prog-économique'!$G$24*1000 -> 1840600 | E30: ='[2]Classification prog-économique'!$J$24*1000 -> 0 | F30: =C30+D30+E30 -> 2289300 | G30: ='[2]Classification prog-économique'!$P$24*1000 -> 92800 | H30: ='[2]Classification prog-économique'!$S$24*1000 -> 0 | I30: =G30+H30 -> 92800 | J30: =F30+I30 -> 2382100 | K30: ='[3]Classification programmatique'!$D$24*1000 -> 1014416.4 | L30: ='[3]Classification programmatique'!$G$24*1000 -> 1975686.2 | M30: ='[3]Classification programmatique'!$J$24*1000 -> 0 | N30: =K30+L30+M30 -> 2990102.6 | O30: ='[3]Classification programmatique'!$P$24*1000 -> 365531.24 | P30: 0 | Q30: 0 | R30: =O30+P30+Q30 -> 365531.24 | S30: =N30+R30 -> 3355633.8 | T30: ='[4]Classification programmatique'!$D$24*1000 -> 966816.82 | U30: ='[4]Classification programmatique'!$G$24*1000 -> 2245919.1 | V30: 0 | W30: =SUM(T30:V30) -> 3212735.9 | X30: ='[4]Classification programmatique'!$P$24*1000 -> 391579.62 | Y30: 0 | Z30: 0 | AA30: =SUM(X30:Z30) -> 391579.62 | AB30: =W30+AA30 -> 3604315.5 | AC30: 763465 | AD30: 2756181 | AE30: 0 | AF30: =SUM(AC30:AE30) -> 3519646 | AG30: 1000000 | AH30: 0 | AI30: 0 | AJ30: =SUM(AG30:AI30) -> 1000000 | AK30: =AF30+AJ30 -> 4519646 | AL30: 801120 | AM30: ='[10]TMC Prog-Eco'!$D$25 -> 2746181 | AN30: 0 | AO30: =SUM(AL30:AN30) -> 3547301 | AP30: 2650000 | AQ30: 0 | AR30: 10739415 | AS30: =SUM(AP30:AR30) -> 13389415 | AT30: =AO30+AS30 -> 16936716 | AU30: 860788 | AV30: 2746181 | AX30: =AU30+AV30+AW30 -> 3606969 | AY30: =17169220-BA30 -> 2850000 | AZ30: 0 | BA30: 14319220 | BB30: =AY30+AZ30+BA30 -> 17169220 | BC30: =AX30+BB30 -> 20776189 | BD30: 897549 | BE30: 2746181 | BG30: =BD30+BE30+BF30 -> 3643730 | BH30: 1550000 | BI30: 0 | BJ30: 10739415 | BK30: =BH30+BI30+BJ30 -> 12289415 | BL30: =BG30+BK30 -> 15933145
A31: 081 | B31: Sécurité publique | C31: ='[2]Classification prog-économique'!$D$25*1000 -> 31942700 | D31: ='[2]Classification prog-économique'!$G$25*1000 -> 6605700 | E31: ='[2]Classification prog-économique'!$J$25*1000 -> 363000 | F31: =C31+D31+E31 -> 38911400 | G31: ='[2]Classification prog-économique'!$P$25*1000 -> 276300 | H31: ='[2]Classification prog-économique'!$S$25*1000 -> 0 | I31: =G31+H31 -> 276300 | J31: =F31+I31 -> 39187700 | K31: ='[3]Classification programmatique'!$D$25*1000 -> 41856735 | L31: ='[3]Classification programmatique'!$G$25*1000 -> 4625994.1 | M31: ='[3]Classification programmatique'!$J$25*1000 -> 184000 | N31: =K31+L31+M31 -> 46666729 | O31: ='[3]Classification programmatique'!$P$25*1000 -> 2289676.8 | R31: =O31+P31+Q31 -> 2289676.8 | S31: =N31+R31 -> 48956406 | T31: ='[4]Classification programmatique'!$D$25*1000 -> 46963194 | U31: ='[4]Classification programmatique'!$G$25*1000 -> 4280735.1 | V31: ='[4]Classification programmatique'!$J$25*1000 -> 209000 | W31: =SUM(T31:V31) -> 51452929 | X31: ='[4]Classification programmatique'!$P$25*1000 -> 2006799.7 | AA31: =SUM(X31:Z31) -> 2006799.7 | AB31: =W31+AA31 -> 53459728 | AC31: 50515371 | AD31: 5234954 | AE31: 209000 | AF31: =SUM(AC31:AE31) -> 55959325 | AG31: 4100000 | AJ31: =SUM(AG31:AI31) -> 4100000 | AK31: =AF31+AJ31 -> 60059325 | AL31: 52377621 | AM31: ='[10]TMC Prog-Eco'!$D$26 -> 5734954 | AN31: ='[10]TMC Prog-Eco'!$E$26 -> 209000 | AO31: =SUM(AL31:AN31) -> 58321575 | AP31: ='[10]TMC Prog-Eco'!$G$26 -> 4100000 | AQ31: 0 | AR31: 0 | AS31: =SUM(AP31:AR31) -> 4100000 | AT31: =AO31+AS31 -> 62421575 | AU31: 56444740 | AV31: 5734954 | AW31: 209000 | AX31: =AU31+AV31+AW31 -> 62388694 | AY31: 5000000 | AZ31: 0 | BA31: 0 | BB31: =AY31+AZ31+BA31 -> 5000000 | BC31: =AX31+BB31 -> 67388694 | BD31: 58950540 | BE31: 5734954 | BF31: 209000 | BG31: =BD31+BE31+BF31 -> 64894494 | BH31: 9000000 | BI31: 0 | BJ31: 0 | BK31: =BH31+BI31+BJ31 -> 9000000 | BL31: =BG31+BK31 -> 73894494
A32: 082 | B32: Protection civile | C32: ='[2]Classification prog-économique'!$D$26*1000 -> 3852500 | D32: ='[2]Classification prog-économique'!$G$26*1000 -> 311300 | E32: ='[2]Classification prog-économique'!$J$26*1000 -> 240000 | F32: =C32+D32+E32 -> 4403800 | G32: ='[2]Classification prog-économique'!$P$26*1000 -> 0 | H32: ='[2]Classification prog-économique'!$S$26*1000 -> 0 | I32: =G32+H32 -> 0 | J32: =F32+I32 -> 4403800 | K32: ='[3]Classification programmatique'!$D$26*1000 -> 3521633.6 | L32: ='[3]Classification programmatique'!$G$26*1000 -> 237819.12 | M32: ='[3]Classification programmatique'!$J$26*1000 -> 280000 | N32: =K32+L32+M32 -> 4039452.8 | O32: ='[3]Classification programmatique'!$P$26*1000 -> 347407.64 | R32: =O32+P32+Q32 -> 347407.64 | S32: =N32+R32 -> 4386860.4 | T32: ='[4]Classification programmatique'!$D$26*1000 -> 5040483.8 | U32: ='[4]Classification programmatique'!$G$26*1000 -> 235754.71 | V32: ='[4]Classification programmatique'!$I$26*1000 -> 280000 | W32: =SUM(T32:V32) -> 5556238.5 | X32: ='[4]Classification programmatique'!$P$26*1000 -> 1016295.5 | AA32: =SUM(X32:Z32) -> 1016295.5 | AB32: =W32+AA32 -> 6572534 | AC32: 5963774 | AD32: 0 | AE32: 710385 | AF32: =SUM(AC32:AE32) -> 6674159 | AG32: 2200000 | AJ32: =SUM(AG32:AI32) -> 2200000 | AK32: =AF32+AJ32 -> 8874159 | AL32: 6092873 | AM32: 0 | AN32: ='[10]TMC Prog-Eco'!$E$27 -> 710385 | AO32: =SUM(AL32:AN32) -> 6803258 | AP32: 2100000 | AQ32: 0 | AR32: 0 | AS32: =SUM(AP32:AR32) -> 2100000 | AT32: =AO32+AS32 -> 8903258 | AU32: 6525402 | AV32: 0 | AW32: 710385 | AX32: =AU32+AV32+AW32 -> 7235787 | AY32: 2000000 | AZ32: 0 | BA32: 0 | BB32: =AY32+AZ32+BA32 -> 2000000 | BC32: =AX32+BB32 -> 9235787 | BD32: 6791888 | BE32: 0 | BF32: 710385 | BG32: =BD32+BE32+BF32 -> 7502273 | BH32: 2000000 | BI32: 0 | BJ32: 0 | BK32: =BH32+BI32+BJ32 -> 2000000 | BL32: =BG32+BK32 -> 9502273
A33: 084 | B33: Gestion intégrée des espaces frontaliers | C33: ='[2]Classification prog-économique'!$D$28*1000 -> 58500 | D33: ='[2]Classification prog-économique'!$G$28*1000 -> 0 | E33: ='[2]Classification prog-économique'!$J$28*1000 -> 20000 | F33: =C33+D33+E33 -> 78500 | G33: ='[2]Classification prog-économique'!$P$28*1000 -> 1500000 | H33: ='[2]Classification prog-économique'!$S$28*1000 -> 0 | I33: =G33+H33 -> 1500000 | J33: =F33+I33 -> 1578500 | K33: 0 | L33: 0 | M33: ='[3]Classification programmatique'!$J$28*1000 -> 20000 | N33: =K33+L33+M33 -> 20000 | O33: ='[3]Classification programmatique'!$P$28*1000 -> 3773500 | R33: =O33+P33+Q33 -> 3773500 | S33: =N33+R33 -> 3793500 | T33: ='[4]Classification programmatique'!$D$28*1000 -> 11138.046 | U33: 0 | V33: ='[4]Classification programmatique'!$J$28*1000 -> 20000 | W33: =T33+U33+V33 -> 31138.046 | X33: ='[4]Classification programmatique'!$P$28*1000 -> 2000000 | AA33: =SUM(X33:Z33) -> 2000000 | AB33: =W33+AA33 -> 2031138 | AC33: 0 | AD33: 0 | AE33: 20000 | AF33: =AC33+AD33+AE33 -> 20000 | AG33: 2000000 | AJ33: =SUM(AG33:AI33) -> 2000000 | AK33: =AF33+AJ33 -> 2020000 | AL33: 0 | AM33: 0 | AN33: ='[10]TMC Prog-Eco'!$E$29 -> 820000 | AO33: =AL33+AM33+AN33 -> 820000 | AP33: ='[10]TMC Prog-Eco'!$H$29 -> 1200000 | AQ33: 0 | AR33: 0 | AS33: =SUM(AP33:AR33) -> 1200000 | AT33: =AO33+AS33 -> 2020000 | AU33: 0 | AV33: 0 | AW33: 820000 | AX33: =AU33+AV33+AW33 -> 820000 | AY33: 2700000 | AZ33: 0 | BA33: 0 | BB33: =AY33+AZ33+BA33 -> 2700000 | BC33: =AX33+BB33 -> 3520000 | BD33: 0 | BE33: 0 | BF33: 820000 | BG33: =BD33+BE33+BF33 -> 820000 | BH33: 1200000 | BI33: 0 | BJ33: 0 | BK33: =BH33+BI33+BJ33 -> 1200000 | BL33: =BG33+BK33 -> 2020000
A34: 083 | B34: Gestion des affaires interieures | C34: ='[2]Classification prog-économique'!$D$27*1000 -> 139500 | D34: ='[2]Classification prog-économique'!$G$27*1000 -> 113700 | E34: ='[2]Classification prog-économique'!$J$27*1000 -> 0 | F34: =C34+D34+E34 -> 253200 | G34: ='[2]Classification prog-économique'!$P$27*1000 -> 0 | H34: ='[2]Classification prog-économique'!$S$27*1000 -> 0 | I34: =G34+H34 -> 0 | J34: =F34+I34 -> 253200 | K34: ='[3]Classification programmatique'!$D$27*1000 -> 159942.41 | L34: ='[3]Classification programmatique'!$G$27*1000 -> 121462.99 | M34: ='[3]Classification programmatique'!$J$27*1000 -> 0 | N34: =K34+L34+M34 -> 281405.4 | O34: 0 | Q34: 0 | R34: =O34+P34+Q34 -> 0 | S34: =N34+R34 -> 281405.4 | T34: ='[4]Classification programmatique'!$D$27*1000 -> 73651.015 | U34: ='[4]Classification programmatique'!$G$27*1000 -> 194690.83 | V34: 0 | W34: =SUM(T34:V34) -> 268341.84 | X34: 0 | Z34: 0 | AA34: =SUM(X34:Z34) -> 0 | AB34: =W34+AA34 -> 268341.84 | AC34: 139993 | AD34: 229000 | AE34: 0 | AF34: =SUM(AC34:AE34) -> 368993 | AG34: 0 | AI34: 0 | AJ34: =SUM(AG34:AI34) -> 0 | AK34: =AF34+AJ34 -> 368993 | AL34: 138331 | AM34: ='[10]TMC Prog-Eco'!$D$28 -> 239000 | AN34: 0 | AO34: =SUM(AL34:AN34) -> 377331 | AP34: 0 | AQ34: 0 | AR34: 0 | AS34: =SUM(AP34:AR34) -> 0 | AT34: =AO34+AS34 -> 377331 | AU34: 149779 | AV34: 239000 | AW34: 0 | AX34: =AU34+AV34+AW34 -> 388779 | AY34: 0 | AZ34: 0 | BA34: 0 | BB34: =AY34+AZ34+BA34 -> 0 | BC34: =AX34+BB34 -> 388779 | BD34: 156831 | BE34: 239000 | BF34: 0 | BG34: =BD34+BE34+BF34 -> 395831 | BH34: 0 | BI34: 0 | BJ34: 0 | BK34: =BH34+BI34+BJ34 -> 0 | BL34: =BG34+BK34 -> 395831
A35: MINISTERE DE L'AGRICULTURE, DE L'ELEVAGE ET DE LA PECHE | C35: =C36+C37+C38+C39 -> 7233307.7 | D35: =D36+D37+D38+D39 -> 4157363.9 | E35: =E36+E37+E38+E39 -> 14939565 | F35: =C35+D35+E35 -> 26330236 | G35: =G36+G37+G38+G39 -> 22486200 | H35: =H36+H37+H38+H39 -> 35622043 | I35: =G35+H35 -> 58108243 | J35: =F35+I35 -> 84438480 | K35: =K36+K38+K37+K39 -> 8303698.4 | L35: =L36+L38+L37+L39 -> 7351864.3 | M35: =M36+M38+M37+M39 -> 11696641 | N35: =K35+L35+M35 -> 27352204 | O35: =O36+O38+O37+O39 -> 10357924 | P35: =P36+P38+P37+P39 -> 14238315 | Q35: =Q36+Q38+Q37+Q39 -> 42362377 | R35: =O35+P35+Q35 -> 66958616 | S35: =S36+S37+S38+S39 -> 94310820 | T35: =T36+T38+T37+T39 -> 9467256.9 | U35: =U36+U38+U37+U39 -> 7151710.1 | V35: =V36+V38+V37+V39 -> 17472818 | W35: =W36+W38+W37+W39 -> 34091785 | X35: =X36+X38+X37+X39 -> 19091215 | Y35: =Y36+Y38+Y37+Y39 -> 3465146.6 | Z35: =Z36+Z38+Z37+Z39 -> 27690719 | AA35: =AA36+AA38+AA37+AA39 -> 50247081 | ... AS35: =AS36+AS38+AS37+AS39 -> 88200572 | AT35: =AO35+AS35 -> 1.4745773e+08 | AU35: =AU36+AU37+AU38+AU39 -> 7416478 | AV35: =AV36+AV37+AV38+AV39 -> 12556016 | AW35: =AW36+AW37+AW38+AW39 -> 39523588 | AX35: =AU35+AV35+AW35 -> 59496082 | AY35: =AY36+AY37+AY38+AY39 -> 43890972 | AZ35: =AZ36+AZ37+AZ38+AZ39 -> 5519999 | BA35: =BA36+BA37+BA38+BA39 -> 47500001 | BB35: =AY35+AZ35+BA35 -> 96910972 | BC35: =AX35+BB35 -> 156407054 | BD35: =BD36+BD37+BD38+BD39 -> 7656903 | BE35: =BE36+BE37+BE38+BE39 -> 12556011 | BF35: =BF36+BF37+BF38+BF39 -> 39523583 | BG35: =BD35+BE35+BF35 -> 59736497 | BH35: =BH36+BH37+BH38+BH39 -> 52173974 | BI35: =BI36+BI37+BI38+BI39 -> 2150000 | BJ35: =BJ36+BJ37+BJ38+BJ39 -> 42999999 | BK35: =BH35+BI35+BJ35 -> 97323973 | BL35: =BG35+BK35 -> 157060470
A36: 035 | B36: Pilotage et soutiens aux services du MAEP | C36: ='[11]Classification prog-économique'!$D$30*1000 -> 1261809 | D36: ='[2]Classification prog-économique'!$G$30*1000 -> 2515397.8 | E36: ='[2]Classification prog-économique'!$J$30*1000 -> 339000 | F36: =C36+D36+E36 -> 4116206.9 | G36: ='[2]Classification prog-économique'!$P$30*1000 -> 2363690.2 | H36: ='[2]Classification prog-économique'!$S$30*1000 -> 0 | I36: =G36+H36 -> 2363690.2 | J36: =F36+I36 -> 6479897 | K36: ='[3]Classification programmatique'!$D$30*1000 -> 1206928.9 | L36: ='[3]Classification programmatique'!$G$30*1000 -> 3182077.7 | M36: ='[3]Classification programmatique'!$J$30*1000 -> 292730.38 | N36: =K36+L36+M36 -> 4681737 | O36: ='[3]Classification programmatique'!$P$30*1000 -> 181629.58 | P36: 0 | Q36: 0 | R36: =O36+P36+Q36 -> 181629.58 | S36: =N36+R36 -> 4863366.5 | T36: ='[6]Classification programmatique'!$D$30*1000 -> 1536484.1 | U36: ='[6]Classification programmatique'!$G$30*1000 -> 3038969.2 | V36: ='[6]Classification programmatique'!$J$30*1000 -> 476031.55 | W36: =SUM(T36:V36) -> 5051484.8 | X36: ='[6]Classification programmatique'!$P$30*1000 -> 535541.06 | Y36: 0 | Z36: 0 | AA36: =SUM(X36:Z36) -> 535541.06 | AB36: =W36+AA36 -> 5587025.9 | AC36: 2771100 | AD36: 7007660 | AE36: 586837 | AF36: =SUM(AC36:AE36) -> 10365597 | AG36: 863920 | AJ36: =SUM(AG36:AI36) -> 863920 | AK36: =AF36+AJ36 -> 11229517 | AL36: ='[10]TMC Prog-Eco'!$C$31 -> 2077266.6 | AM36: ='[10]TMC Prog-Eco'!$D$31 -> 7045657 | AN36: ='[10]TMC Prog-Eco'!$E$31 -> 595037 | AO36: =SUM(AL36:AN36) -> 9717960.6 | AP36: ='[10]TMC Prog-Eco'!$H$31 -> 1295688.6 | AQ36: 0 | AR36: 0 | AS36: =SUM(AP36:AR36) -> 1295688.6 | AT36: =AO36+AS36 -> 11013649 | AU36: 2138057 | AV36: 7045657 | AW36: 595037 | AX36: =AU36+AV36+AW36 -> 9778751 | AY36: 1603057 | BB36: =AY36+AZ36+BA36 -> 1603057 | BC36: =AX36+BB36 -> 11381808 | BD36: 2199221 | BE36: 7045657 | BF36: 595032 | BG36: =BD36+BE36+BF36 -> 9839910 | BH36: 1849372 | BK36: =BH36+BI36+BJ36 -> 1849372 | BL36: =BG36+BK36 -> 11689282
